BEGIN:VCALENDAR
VERSION:2.0
PRODID:-//STRAUSSENCLIQUE - ECPv5.9.1//NONSGML v1.0//EN
CALSCALE:GREGORIAN
METHOD:PUBLISH
X-WR-CALNAME:STRAUSSENCLIQUE
X-ORIGINAL-URL:https://www.straussenclique.de
X-WR-CALDESC:Veranstaltungen für STRAUSSENCLIQUE
BEGIN:VTIMEZONE
TZID:Europe/Berlin
BEGIN:DAYLIGHT
TZOFFSETFROM:+0100
TZOFFSETTO:+0200
TZNAME:CEST
DTSTART:20260329T010000
END:DAYLIGHT
BEGIN:STANDARD
TZOFFSETFROM:+0200
TZOFFSETTO:+0100
TZNAME:CET
DTSTART:20261025T010000
END:STANDARD
END:VTIMEZONE
BEGIN:VEVENT
DTSTART;TZID=Europe/Berlin:20260516T080000
DTEND;TZID=Europe/Berlin:20260516T170000
DTSTAMP:20260421T112113
CREATED:20260414T161846Z
LAST-MODIFIED:20260414T161846Z
UID:120900-1778918400-1778950800@www.straussenclique.de
SUMMARY:55583 Bad Münster a. Stein – VitalTour Rheingrafenstein (Bad Kreuznach)
DESCRIPTION:Auto-Anfahrt:  \nTreffpunkt: 10:00h\, P+R Bahnhof Bad Münster am Stein \nÖPNV:              \nAb LD Hbf. Abfahrt um 08:51h\, auf Gleis 4\, mit dem RE 21\, an BamSt.\, Ankunft 10:04h\,  \nZustiege unterwegs möglich in NW\, Winnweiler\, ROK  \nRückfahrt stündlich vsl. über eine andere Streckenführung.  \nDer RE21 fährt in KA los\, nur gibt es immer wieder div. und ärgerliche Bahn-Probleme. \nVorwiegend auf der Strecke KA – Winden. \nKosten: \nDeutschland-Ticket p.P. \nStrecke: \nEine sehr eindrucksvolle\, abwechslungsreiche und schöne Panorama-Rundwanderung\, mit Anspruch. \nDiese Wanderung bietet alles was zu einer kompakten Tour dazu gehört\, Pfade\, steinige Wege\, Altenbaumburg\, etwas Asphalt\, Auf- und Abstiege\, Rheingrafenstein uvm. \nCa.16km\, 310:290HM\, Wanderzeit rd.4\,50h. Mit der Bitte um ein zügiges Schritt-Tempo. \nMax. Teilnehmerzahl 15 Personen.  \nDiese Wanderung findet nur statt bei trockener Wetterlage. Änderungen unter Vorbehalt. \nUnterwegs: \nRucksack-Vesper/Snack\, Kaffee-Einkehr ggf.möglich. Auf Wunsch\, Gastronomischer Wander-Abschluss in BamSt.  \nAnmeldung bitte mit Handy-Nr. unter ghs-wandern@web.de oder über WA\, „Wandergruppe Günther“ \nLG \nGünther
URL:https://www.straussenclique.de/veranstaltung/55583-bad-muenster-a-stein-vitaltour-rheingrafenstein-bad-kreuznach/
CATEGORIES:Wanderungen
ATTACH;FMTTYPE=image/jpeg:https://www.straussenclique.de/wp-content/uploads/2026/04/bad-muenster.jpg
END:VEVENT
END:VCALENDAR