BEGIN:VCALENDAR
VERSION:2.0
PRODID:-//STRAUSSENCLIQUE - ECPv5.9.1//NONSGML v1.0//EN
CALSCALE:GREGORIAN
METHOD:PUBLISH
X-WR-CALNAME:STRAUSSENCLIQUE
X-ORIGINAL-URL:https://www.straussenclique.de
X-WR-CALDESC:Veranstaltungen für STRAUSSENCLIQUE
BEGIN:VTIMEZONE
TZID:Europe/Berlin
BEGIN:DAYLIGHT
TZOFFSETFROM:+0100
TZOFFSETTO:+0200
TZNAME:CEST
DTSTART:20240331T010000
END:DAYLIGHT
BEGIN:STANDARD
TZOFFSETFROM:+0200
TZOFFSETTO:+0100
TZNAME:CET
DTSTART:20241027T010000
END:STANDARD
END:VTIMEZONE
BEGIN:VEVENT
DTSTART;TZID=Europe/Berlin:20240616T100000
DTEND;TZID=Europe/Berlin:20240616T170000
DTSTAMP:20260422T125139
CREATED:20240319T200009Z
LAST-MODIFIED:20240319T200035Z
UID:105594-1718532000-1718557200@www.straussenclique.de
SUMMARY:69118 Schlierbach-Ziegelhausen - Übers Ochsenwegle zum Dilsberg (Odenwald)
DESCRIPTION:Auto-Anfahrt: Treffpunkt Parkplatz Bf. Schlierbach-Ziegelhausen. Zug hält auch dort bei Bahn-Rückfahrt. \nÖPNV:  Ab KA Hbf. um 09:13h\, an HD. Um 09:55h Umstieg in S 1 Richtung Osterburgen\, Ankunft in Schlierbach-Ziegelhausen um 10:03h. \nStrecke: \nAuf den Spuren des Neckarsteiges\, mit Highlights. Urige Pfade\, immer wieder markante Aussichtspunkte. Und und und….. \nDie Burgfeste „Dilsberg“ ist bekannt für Ihren fantastischen Rundblick über das Neckartal. \nMittlerer Anspruch ca. 15km. \nRucksack-Vesper\, Kaffee-Pause geplant… Wander-Abschluss am Touren-Ende. \nZwecks ggf. Reservierung\, Bahnfahrt etc. bitte vorab Bescheid geben.  \nAnmeldung bei Günther unter: ghs-wandern@web.de
URL:https://www.straussenclique.de/veranstaltung/69118-schlierbach-ziegelhausen-uebers-ochsenwegle-zum-dilsberg-odenwald/
CATEGORIES:Wanderungen
ATTACH;FMTTYPE=image/jpeg:https://www.straussenclique.de/wp-content/uploads/2024/03/ziegelhausen.jpg
END:VEVENT
END:VCALENDAR