BEGIN:VCALENDAR
VERSION:2.0
PRODID:-//STRAUSSENCLIQUE - ECPv5.9.1//NONSGML v1.0//EN
CALSCALE:GREGORIAN
METHOD:PUBLISH
X-WR-CALNAME:STRAUSSENCLIQUE
X-ORIGINAL-URL:https://www.straussenclique.de
X-WR-CALDESC:Veranstaltungen für STRAUSSENCLIQUE
BEGIN:VTIMEZONE
TZID:Europe/Berlin
BEGIN:DAYLIGHT
TZOFFSETFROM:+0100
TZOFFSETTO:+0200
TZNAME:CEST
DTSTART:20230326T010000
END:DAYLIGHT
BEGIN:STANDARD
TZOFFSETFROM:+0200
TZOFFSETTO:+0100
TZNAME:CET
DTSTART:20231029T010000
END:STANDARD
END:VTIMEZONE
BEGIN:VEVENT
DTSTART;VALUE=DATE:20230305
DTEND;VALUE=DATE:20230306
DTSTAMP:20260423T153204
CREATED:20230221T194310Z
LAST-MODIFIED:20230221T194310Z
UID:98417-1677974400-1678060799@www.straussenclique.de
SUMMARY:Auf wilden\, anspruchsvollen Felspfaden im Murgtal (Nordschwarzwald)
DESCRIPTION:Wanderführer Wolfgang aus Bad Herrenalb geht auf Tour. \nHerausfordernde Felspfade und überwältigende Ausblicke erwarten uns auf dieser Tour. Diese Tour hat alpinen Charakter und ist als schwer einzustufen. Gute bis sehr gute Trittsicherheit und gute Kondition erforderlich. Für geübte Bergwanderer gut machbar. Keine Kletterei notwendig\, bei einigen Felsgruppen nehmen wir uns Zeit für Pause an tollen Plätzen und Erkundung. \nCa. 15 km mit ca. 1000 hm. Rucksackvesper\, Pausen sind eingeplant. \nWer Interesse an Abschlusseinkehr hat\, bitte mitteilen!!! z.B. Melisone in Weisenbach \nStart: 11:00 Festhalle Langenbrand im Murgtal. \nAnmeldung über E-mail: w.oppolzer@t-online.de
URL:https://www.straussenclique.de/veranstaltung/auf-wilden-anspruchsvollen-felspfaden-im-murgtal-nordschwarzwald/
CATEGORIES:Wanderungen
ATTACH;FMTTYPE=image/jpeg:https://www.straussenclique.de/wp-content/uploads/2023/02/Felspfade-scaled.jpg
END:VEVENT
END:VCALENDAR