BEGIN:VCALENDAR
VERSION:2.0
PRODID:-//STRAUSSENCLIQUE - ECPv5.9.1//NONSGML v1.0//EN
CALSCALE:GREGORIAN
METHOD:PUBLISH
X-WR-CALNAME:STRAUSSENCLIQUE
X-ORIGINAL-URL:https://www.straussenclique.de
X-WR-CALDESC:Veranstaltungen für STRAUSSENCLIQUE
BEGIN:VTIMEZONE
TZID:Europe/Berlin
BEGIN:DAYLIGHT
TZOFFSETFROM:+0100
TZOFFSETTO:+0200
TZNAME:CEST
DTSTART:20220327T010000
END:DAYLIGHT
BEGIN:STANDARD
TZOFFSETFROM:+0200
TZOFFSETTO:+0100
TZNAME:CET
DTSTART:20221030T010000
END:STANDARD
END:VTIMEZONE
BEGIN:VEVENT
DTSTART;TZID=Europe/Berlin:20221005T080000
DTEND;TZID=Europe/Berlin:20221009T170000
DTSTAMP:20260421T110706
CREATED:20220425T200514Z
LAST-MODIFIED:20220425T200514Z
UID:90565-1664956800-1665334800@www.straussenclique.de
SUMMARY:Der ZweiTälerSteig – Komfortvariante (Mittlerer Schwarzwald)
DESCRIPTION:Der ZweiTälerSteig führt uns durch die schönsten und ursprünglichsten Winkel des Elz- und Simonswäldertales. Begleitet uns auf 5 erlebnisreichen Etappen und über 106 km zu Naturschönheiten wie den Zweribach-Wasserfällen\, der verwunschenen Teichschlucht und dem gewaltigen Hubertfelsen. Auf dieser Mehrtagestour kommen wir in den Genuss von ausgewählten Unterkünften mit Halbpension\, individuellen Transfers und einer engagierten Wanderleitung. Diese Wanderreise erfolgt in Zusammenarbeit mit der ZweiTälerLand Tourismus GmbH & Co.KG. \nLink: ZweiTälerSteig – Wandern ohne Gepäck – Schwilski Wanderreisen (schwilski-wanderreisen.de) \nLink: ZweiTälerSteig – Zweitälerland (zweitaelerland.de) \nWeitere Informationen und Anmeldung bei Uwe unter info@schwilski-wanderreisen.de
URL:https://www.straussenclique.de/veranstaltung/der-zweitaelersteig-komfortvariante-mittlerer-schwarzwald/
CATEGORIES:Wanderreise
ATTACH;FMTTYPE=image/jpeg:https://www.straussenclique.de/wp-content/uploads/2022/04/IMG_3579-scaled.jpg
END:VEVENT
END:VCALENDAR