BEGIN:VCALENDAR
VERSION:2.0
PRODID:-//STRAUSSENCLIQUE - ECPv5.9.1//NONSGML v1.0//EN
CALSCALE:GREGORIAN
METHOD:PUBLISH
X-WR-CALNAME:STRAUSSENCLIQUE
X-ORIGINAL-URL:https://www.straussenclique.de
X-WR-CALDESC:Veranstaltungen für STRAUSSENCLIQUE
BEGIN:VTIMEZONE
TZID:Europe/Berlin
BEGIN:DAYLIGHT
TZOFFSETFROM:+0100
TZOFFSETTO:+0200
TZNAME:CEST
DTSTART:20230326T010000
END:DAYLIGHT
BEGIN:STANDARD
TZOFFSETFROM:+0200
TZOFFSETTO:+0100
TZNAME:CET
DTSTART:20231029T010000
END:STANDARD
END:VTIMEZONE
BEGIN:VEVENT
DTSTART;TZID=Europe/Berlin:20230625T104000
DTEND;TZID=Europe/Berlin:20230625T183000
DTSTAMP:20260422T230626
CREATED:20230522T173330Z
LAST-MODIFIED:20230522T173330Z
UID:100582-1687689600-1687717800@www.straussenclique.de
SUMMARY:Die Rötenbach Schlucht (Hochschwarzwald)
DESCRIPTION:Es ist eine gute Kondition und Trittsicherheit erforderlich. \nVom Wanderparkplatz 10\,8 km und vom Bhf 14\,4 km\, dabei 300 Höhenmeter  \nTreffpunkt: Bhf Rötenbach 10:40 Uhr (ab Freiburg 9:37 Uhr) oder Wanderparkplatz „Hardt“ um 11:20 Uhr. \nZurück mit dem Zug 16:17 Uhr oder 17:17 Uhr  \nmax. 10 Personen\, Rucksackverpflegung\, Endeinkehr möglich. \nZusätzlich bietet Sigrun noch Wanderungen am Mittwoch an. \nAnmeldung bei Sigrun per E-Mail min. immer ein Tag zuvor: sg.dietrich@gmx.de
URL:https://www.straussenclique.de/veranstaltung/die-roetenbach-schlucht-hochschwarzwald/
CATEGORIES:Wanderungen
ATTACH;FMTTYPE=image/jpeg:https://www.straussenclique.de/wp-content/uploads/2023/05/IMG_20200705_122008-scaled.jpg
END:VEVENT
END:VCALENDAR