BEGIN:VCALENDAR
VERSION:2.0
PRODID:-//STRAUSSENCLIQUE - ECPv5.9.1//NONSGML v1.0//EN
CALSCALE:GREGORIAN
METHOD:PUBLISH
X-WR-CALNAME:STRAUSSENCLIQUE
X-ORIGINAL-URL:https://www.straussenclique.de
X-WR-CALDESC:Veranstaltungen für STRAUSSENCLIQUE
BEGIN:VTIMEZONE
TZID:Europe/Berlin
BEGIN:DAYLIGHT
TZOFFSETFROM:+0100
TZOFFSETTO:+0200
TZNAME:CEST
DTSTART:20240331T010000
END:DAYLIGHT
BEGIN:STANDARD
TZOFFSETFROM:+0200
TZOFFSETTO:+0100
TZNAME:CET
DTSTART:20241027T010000
END:STANDARD
END:VTIMEZONE
BEGIN:VEVENT
DTSTART;TZID=Europe/Berlin:20240609T100000
DTEND;TZID=Europe/Berlin:20240609T170000
DTSTAMP:20260420T103759
CREATED:20240529T150948Z
LAST-MODIFIED:20240529T150948Z
UID:107597-1717927200-1717952400@www.straussenclique.de
SUMMARY:DIETER´S TRAUMPFADE am Vierwaldstättersee
DESCRIPTION:Auf einer Gratwanderung über 3 Gipfel:\nKLINGENSTOCK-HUSER STOCK-FRONALPSTOCK\, 7km\, +-370Hm. \nTreffs:  \n10:00 Parkplatz der Stossbahn\n08:30 Palmrainbrücke Weil\n07:45 Paduaallee Freiburg-Lehen \nSchweizer Franken (Für einen Kaffee\, Bier) erforderlich. \nBitte vor allem auch an ausreichend Rucksackverpflegung denken! \nAn einer besonders schönen Stelle gibt es einen kleinen Umtrunk – Kleine Spende wird erbeten – Danke 🙂 \nAnmeldung erforderlich\, bitte direkt bei Dieter: posch-dieter@web.de \n 
URL:https://www.straussenclique.de/veranstaltung/dieters-traumpfade-am-vierwaldstaettersee/
CATEGORIES:Wanderungen
ATTACH;FMTTYPE=image/jpeg:https://www.straussenclique.de/wp-content/uploads/2024/05/P1100737-scaled.jpg
END:VEVENT
END:VCALENDAR