BEGIN:VCALENDAR
VERSION:2.0
PRODID:-//STRAUSSENCLIQUE - ECPv5.9.1//NONSGML v1.0//EN
CALSCALE:GREGORIAN
METHOD:PUBLISH
X-WR-CALNAME:STRAUSSENCLIQUE
X-ORIGINAL-URL:https://www.straussenclique.de
X-WR-CALDESC:Veranstaltungen für STRAUSSENCLIQUE
BEGIN:VTIMEZONE
TZID:Europe/Berlin
BEGIN:DAYLIGHT
TZOFFSETFROM:+0100
TZOFFSETTO:+0200
TZNAME:CEST
DTSTART:20240331T010000
END:DAYLIGHT
BEGIN:STANDARD
TZOFFSETFROM:+0200
TZOFFSETTO:+0100
TZNAME:CET
DTSTART:20241027T010000
END:STANDARD
END:VTIMEZONE
BEGIN:VEVENT
DTSTART;TZID=Europe/Berlin:20241006T080000
DTEND;TZID=Europe/Berlin:20241006T170000
DTSTAMP:20260421T130158
CREATED:20240916T203040Z
LAST-MODIFIED:20240916T203040Z
UID:110267-1728201600-1728234000@www.straussenclique.de
SUMMARY:Kammwanderung Glottertal (Mittlerer Schwarzwald)
DESCRIPTION:Wandern mit Eschbach&Eschbach über den Eschbacher Höchst (870m) und den Kandel (1242m)\, Kammwanderung um das Glottertal \nCa 33km mit 1200hm \nRucksackverpflegung\, evtl Einkehr beim Fensterliwirt oder zum Abschluss \nTrittsicherheit\, sehr gute Ausdauer und Kondition erforderlich\, wird sehr sportiv mit steilen Anstiegen! \nMax 15 Teilnehmer \nLos geht´s um 8:00 Uhr. Weitere Infos über den Treffpunkt bei Anmeldung \nAnmeldung bei enjoy.hiking@online.de\nmit Angabe von Mobilnummer zwecks Whatsappgruppe\, weitere Details werden dort kommuniziert
URL:https://www.straussenclique.de/veranstaltung/kammwanderung-glottertal-mittlerer-schwarzwald/
CATEGORIES:Wanderungen
ATTACH;FMTTYPE=image/jpeg:https://www.straussenclique.de/wp-content/uploads/2024/09/glottertal.jpg
END:VEVENT
END:VCALENDAR