BEGIN:VCALENDAR
VERSION:2.0
PRODID:-//STRAUSSENCLIQUE - ECPv5.9.1//NONSGML v1.0//EN
CALSCALE:GREGORIAN
METHOD:PUBLISH
X-WR-CALNAME:STRAUSSENCLIQUE
X-ORIGINAL-URL:https://www.straussenclique.de
X-WR-CALDESC:Veranstaltungen für STRAUSSENCLIQUE
BEGIN:VTIMEZONE
TZID:Europe/Berlin
BEGIN:DAYLIGHT
TZOFFSETFROM:+0100
TZOFFSETTO:+0200
TZNAME:CEST
DTSTART:20260329T010000
END:DAYLIGHT
BEGIN:STANDARD
TZOFFSETFROM:+0200
TZOFFSETTO:+0100
TZNAME:CET
DTSTART:20261025T010000
END:STANDARD
END:VTIMEZONE
BEGIN:VEVENT
DTSTART;VALUE=DATE:20260425
DTEND;VALUE=DATE:20260426
DTSTAMP:20260423T104551
CREATED:20260421T110522Z
LAST-MODIFIED:20260421T110522Z
UID:121383-1777075200-1777161599@www.straussenclique.de
SUMMARY:Rotwildgehege im Schönbuch - Birkensee (Naturdenkmal) Runde von Weil im Schönbuch
DESCRIPTION:Liebe Wanderfreunde\, \nbiete eine tolle Rundwanderung an: \n20Km\, ca. 320 HM \nSchwierigkeitsgrad: Schwer   \nAuf dem höchsten Punkt des Schönbuchs gelegen\, wurde der Birkensee aufgrund seiner für den Schönbuch seltenen Pflanzengesellschaften als Naturdenkmal ausgewiesen. \nEr gehört mit seiner Umgebung zu den pflanzenkundlich interessantesten Gebieten im Naturpark (niederliegender Bärlapp\, breitblättriges und schmalblättriges Wollgras\, Moosbeere\, Heidenelke\, verschiedene Torfmoose und der rundblättrige Sonnentau). Leider sind einige Pflanzen davon bereits verschwunden. \nRundwanderung in faszinierenden Ausblicken und schöner Natur\, wer möchte mich auf dieser eindrucksvollen Wanderung begleiten? \nDas ist eine private Wanderung. Die Teilnahme erfolgt auf eigene Gefahr. \nIch übernehme keinerlei Haftung für Personen-\, Sach- oder Vermögensschäden die in Zusammenhang der Wanderung entstehen können. \nMit der Teilnahme bestätigen die Teilnehmenden dass sie den Haftungsausschluss zur Kenntnis genommen haben und damit einverstanden sind.   \nBei Schlechtwetter fällt die Wanderung aus\, wird hier bekannt gegeben. Bitte vor dem Losfahren in hier reinschauen.   \nHinweis: Wir laufen ohne Hunde \nTreffpunkt: 09:00 Uhr in 71093 Weil im Schönbuch. Den genauen Treffpunkt teile ich bei Anmeldung mit: t_schmid_63@web.de \nLG  \nThea
URL:https://www.straussenclique.de/veranstaltung/rotwildgehege-im-schoenbuch-birkensee-naturdenkmal-runde-von-weil-im-schoenbuch/
CATEGORIES:Wanderungen
ATTACH;FMTTYPE=image/jpeg:https://www.straussenclique.de/wp-content/uploads/2026/04/schoenbuch.jpg
END:VEVENT
END:VCALENDAR