BEGIN:VCALENDAR
VERSION:2.0
PRODID:-//STRAUSSENCLIQUE - ECPv5.9.1//NONSGML v1.0//EN
CALSCALE:GREGORIAN
METHOD:PUBLISH
X-WR-CALNAME:STRAUSSENCLIQUE
X-ORIGINAL-URL:https://www.straussenclique.de
X-WR-CALDESC:Veranstaltungen für STRAUSSENCLIQUE
BEGIN:VTIMEZONE
TZID:Europe/Berlin
BEGIN:DAYLIGHT
TZOFFSETFROM:+0100
TZOFFSETTO:+0200
TZNAME:CEST
DTSTART:20240331T010000
END:DAYLIGHT
BEGIN:STANDARD
TZOFFSETFROM:+0200
TZOFFSETTO:+0100
TZNAME:CET
DTSTART:20241027T010000
END:STANDARD
END:VTIMEZONE
BEGIN:VEVENT
DTSTART;TZID=Europe/Berlin:20240113T123000
DTEND;TZID=Europe/Berlin:20240113T170000
DTSTAMP:20260420T171056
CREATED:20240103T154834Z
LAST-MODIFIED:20240103T154834Z
UID:104231-1705149000-1705165200@www.straussenclique.de
SUMMARY:Rund um Talhausen (Ebringen\, Markgräflerland)
DESCRIPTION:Von Frieder kommt folgendes Angebot: \nFür Samstag 13.1 biete ich eine Tour ab Bhf Schallstadt um 12.30 an: „Rund um Talhausen (Ebringen)“. \nCa. 3 Stunden\, mit Aufstiegen; bitte gutes Schuhwerk (Profilsohle) mitbringen\, da es rutschig sein kann. \nKeine Anmeldung erforderlich\, bei Fragen sysbe@web.de
URL:https://www.straussenclique.de/veranstaltung/rund-um-talhausen-ebringen-markgraeflerland/
CATEGORIES:Wanderungen
ATTACH;FMTTYPE=image/jpeg:https://www.straussenclique.de/wp-content/uploads/2023/08/IMG_8094-scaled.jpg
END:VEVENT
END:VCALENDAR