BEGIN:VCALENDAR
VERSION:2.0
PRODID:-//STRAUSSENCLIQUE - ECPv5.9.1//NONSGML v1.0//EN
CALSCALE:GREGORIAN
METHOD:PUBLISH
X-WR-CALNAME:STRAUSSENCLIQUE
X-ORIGINAL-URL:https://www.straussenclique.de
X-WR-CALDESC:Veranstaltungen für STRAUSSENCLIQUE
BEGIN:VTIMEZONE
TZID:Europe/Berlin
BEGIN:DAYLIGHT
TZOFFSETFROM:+0100
TZOFFSETTO:+0200
TZNAME:CEST
DTSTART:20240331T010000
END:DAYLIGHT
BEGIN:STANDARD
TZOFFSETFROM:+0200
TZOFFSETTO:+0100
TZNAME:CET
DTSTART:20241027T010000
END:STANDARD
END:VTIMEZONE
BEGIN:VEVENT
DTSTART;TZID=Europe/Berlin:20240526T100000
DTEND;TZID=Europe/Berlin:20240526T170000
DTSTAMP:20260422T111643
CREATED:20240520T151045Z
LAST-MODIFIED:20240520T151045Z
UID:106806-1716717600-1716742800@www.straussenclique.de
SUMMARY:Rundweg Baden-Baden über Battert und Merkur –
DESCRIPTION: ***** Nur noch Restplätze verfügbar!! ***** \nStart 10Uhr am Leopoldsplatz Baden-Baden \nStrecke ca. 17 km\, 750 HM. \nDa wir stets flott unterwegs sind\, Trittsicherheit und gute Kondition sind Voraussetzung für unsere Touren. \nRucksackverpflegung\, unterwegs gibt’s ausreichend Sitzgelegenheiten und Hütten. \nDie Teilnehmerzahl ist auf 20 Personen beschränkt. Die Einzelheiten (Wetter\, Strecke\, Schluss Einkehr\, Möglichkeit der Fahrgemeinschaft etc.) werden dir bei der Anmeldung mitgeteilt. \nBitte bei der Anmeldung gleich mitteilen ob FGM gesucht\, angeboten wird und ab wo. Genauso Schlusseinkehr \n  \nBitte Anmeldung bei Solveiga unter solvi.sportivwanderer@gmail.com
URL:https://www.straussenclique.de/veranstaltung/rundweg-baden-baden-ueber-battert-und-merkur/
CATEGORIES:Wanderungen
ATTACH;FMTTYPE=image/jpeg:https://www.straussenclique.de/wp-content/uploads/2024/05/IMG_3815-scaled.jpg
END:VEVENT
END:VCALENDAR