BEGIN:VCALENDAR
VERSION:2.0
PRODID:-//STRAUSSENCLIQUE - ECPv5.9.1//NONSGML v1.0//EN
CALSCALE:GREGORIAN
METHOD:PUBLISH
X-WR-CALNAME:STRAUSSENCLIQUE
X-ORIGINAL-URL:https://www.straussenclique.de
X-WR-CALDESC:Veranstaltungen für STRAUSSENCLIQUE
BEGIN:VTIMEZONE
TZID:Europe/Berlin
BEGIN:DAYLIGHT
TZOFFSETFROM:+0100
TZOFFSETTO:+0200
TZNAME:CEST
DTSTART:20260329T010000
END:DAYLIGHT
BEGIN:STANDARD
TZOFFSETFROM:+0200
TZOFFSETTO:+0100
TZNAME:CET
DTSTART:20261025T010000
END:STANDARD
END:VTIMEZONE
BEGIN:VEVENT
DTSTART;VALUE=DATE:20260315
DTEND;VALUE=DATE:20260316
DTSTAMP:20260420T200729
CREATED:20260303T173008Z
LAST-MODIFIED:20260303T173008Z
UID:120047-1773532800-1773619199@www.straussenclique.de
SUMMARY:Saverne und die schlafenden Riesen – Eine Zeitreise zum Auge des Elsass
DESCRIPTION:Betreff: Einladung: Saverne und die schlafenden Riesen – Eine Zeitreise zum Auge des Elsass (15.03.2026) \nLiebe Wanderer\, \nein neues Wander-Highlight wartet auf uns: Eine sagenhafte Rundwanderung ab Saverne\, die uns tief in die Seele der elsässischen Nordvogesen führt. Wir entdecken die Doppelburg Greifenstein\, die idyllische Grotte Saint-Vit und genießen weite Panoramablicke vom Rappenfelsen und Brotschberg bis hin zum majestätischen Château du Haut-Barr. \nTermin: Sonntag\, 15.03.2026 Uhrzeit: 10:00 Uhr Treffpunkt: Saverne\, Place des Dragons \nAnforderung: T1 (mittel – gute Kondition erforderlich) Ausrüstung: Wanderausrüstung\, Tagesverpflegung\, Regenbekleidung Teilnehmer: max. 24 Einkehr: Geplant in Saverne (Zabern) mit anschließender Stadtführung. \n💡 NEU: Die Twin-Tour-Option (Wähle deine Distanz)\nUm jedem Wanderer gerecht zu werden\, bieten wir diese Tour als Twin-Tour an: \n\nOption A (Die volle Distanz): Komplette Rundwanderung über ca. 14\,8 km zurück nach Saverne.\nOption B (Die kurze Variante): Wanderung bis zum Bahnhof Stambach (ca. 6\,3 km) mit anschließender kurzer Zugfahrt zurück nach Saverne.\nFahrplan für Option B (Sonntag\, 15.03.): * Abfahrt Stambach (TER): 12:49 Uhr\n\nAnkunft Saverne: 12:54 Uhr (Fahrzeit 5 Min.)\nSo sind alle Teilnehmer der kurzen Variante rechtzeitig zur gemeinsamen Einkehr und Stadtführung wieder bei der Gruppe in Saverne.\n\n\n\nErlebnisweg: Saverne und die schlafenden Riesen\nDiese Wanderung verbindet tiefe\, geheimnisvolle Wälder mit der bewegten Geschichte des Adels und des Glaubens. Von Saverne führt uns der Weg hinauf in eine Welt aus rotem Sandstein und zerfallenen Mauern\, die wie schlafende Riesen über dem Tal wachen. \nEin erster Höhepunkt ist die Burgruine Greifenstein. Als Doppelburganlage beeindruckt sie mit einem der höchsten romanischen Bergfriede des Elsass. Ein Ort der Ruhe ist die Grotte Saint-Vit. Hier verschmelzen Natur und Spiritualität in einem liebevoll gepflegten Alpingarten\, während die kühle Felsenkapelle an jene Zeiten erinnert\, als Pilger hier Heilung suchten. \nDie Route bietet wahre Logenplätze: Der Rappenfelsen und der Grand Krappenfels eröffnen Ausblicke über das Rebenmeer bis zum Felsen von Dabo. Ein architektonisches Juwel ist der Brotschbergturm\, der uns eine 360-Grad-Rundumsicht schenkt. Gegen Ende der Tour erzählen die Ruinen von Klein- und Groß-Geroldseck von ritterlichen Fehden\, bevor wir das Château du Haut-Barr\, das „Auge des Elsass“\, erreichen. Auf drei gewaltigen Felsen erbaut\, bietet diese Festung eine strategische Aussicht bis zum Straßburger Münster. \nDer kleine Tipp am Wegesrand: Die literarische Galerie\nBegleitend zu unserer Wanderung lade ich Sie ein\, den Sagen\, Fabeln und Märchen der Region zu lauschen. In meinen Erzählungen werden die Geister der Vergangenheit lebendig. Wir sprechen über den Verlust alter Traditionen und den Gewinn neuer Erkenntnisse. \nDer kleine Tipp am Wegesrand: Die literarische Galerie\nBegleitend zu unserer Wanderung lade ich Sie ein\, den Sagen\, Fabeln und Märchen der Region zu lauschen. In meinen Erzählungen werden die Geister der Vergangenheit lebendig. Wir sprechen über den Verlust alter Traditionen und den Gewinn neuer Erkenntnisse – Themen\, die sich in den tiefen Wäldern des Elsass an jeder Ecke widerspiegeln. Lassen Sie sich von der Magie der Region inspirieren. \nDetails & Outdooractive-Daten\n\n\n\nStrecke\nDauer\nAufstieg\nAbstieg\nHöchster Punkt\n\n\n\n\n14\,8 km\n5:00 h\n616 hm\n616 hm\n540 m\n\n\n\nIch freue mich auf ein positives Feedback auf Outdooractive! \nSicherheitshinweis / Ausrüstung\n\nSchuhe: Festes\, knöchelhohes Wanderschuhwerk mit guter Profilsohle.\nKleidung: Funktionelles Schichtsystem\, Regenjacke/-hose\, Sonnenhut.\nRucksack: Ausreichend Platz für Verpflegung\, Getränke und Erste-Hilfe-Set.\nVerpflegung: Ausreichend Wasser\, Energieriegel\, Obst – gerne ein zünftiges Wander-Vesper.\n\nFahrgemeinschaft & Anmeldung\nDer Natur verbunden\, bitten wir um Fahrgemeinschaften. Absprache in der WhatsApp-Gruppe „Gerd’s Wandergruppe“. \nTreffpunkt Fahrgemeinschaft: 08:30 Uhr\, Getränke Maushardt\, Baden-Baden Steinbach. \n Anmeldeschluss: 12.03.2026 \nAnmeldung: E-Mail (gg.wandern@gmail.com) \n(Bitte Vorname\, Nachname angeben; für Gäste zusätzlich Handynummer und E-Mail). \nWegen Wetter oder aktuellem Anlass behalten wir uns Änderungen vor. Es gelten die Datenschutzrichtlinien. \nLg \nGerd
URL:https://www.straussenclique.de/veranstaltung/saverne-und-die-schlafenden-riesen-eine-zeitreise-zum-auge-des-elsass/
CATEGORIES:Wanderungen
ATTACH;FMTTYPE=image/png:https://www.straussenclique.de/wp-content/uploads/2026/03/saverne.png
END:VEVENT
END:VCALENDAR