BEGIN:VCALENDAR
VERSION:2.0
PRODID:-//STRAUSSENCLIQUE - ECPv5.9.1//NONSGML v1.0//EN
CALSCALE:GREGORIAN
METHOD:PUBLISH
X-WR-CALNAME:STRAUSSENCLIQUE
X-ORIGINAL-URL:https://www.straussenclique.de
X-WR-CALDESC:Veranstaltungen für STRAUSSENCLIQUE
BEGIN:VTIMEZONE
TZID:Europe/Berlin
BEGIN:DAYLIGHT
TZOFFSETFROM:+0100
TZOFFSETTO:+0200
TZNAME:CEST
DTSTART:20240331T010000
END:DAYLIGHT
BEGIN:STANDARD
TZOFFSETFROM:+0200
TZOFFSETTO:+0100
TZNAME:CET
DTSTART:20241027T010000
END:STANDARD
END:VTIMEZONE
BEGIN:VEVENT
DTSTART;TZID=Europe/Berlin:20240623T210000
DTEND;TZID=Europe/Berlin:20240623T210000
DTSTAMP:20260420T153915
CREATED:20240513T154006Z
LAST-MODIFIED:20240513T161854Z
UID:106704-1719176400-1719176400@www.straussenclique.de
SUMMARY:Sonnenuntergangswanderung und Vollmondnacht Dobel (Nordschwarzwald)
DESCRIPTION:Wir genießen zuerst den Sonnenuntergang und machen uns dann auf zum Vollmond. Es erwartet Euch eine informative und aussichtsreiche Wanderung durch die Nacht. Hauptdarsteller ist unser Mond. Der Mond erfährt aktuell wieder sehr viel Aufmerksamkeit. Auf unserer kleinen Wanderung betrachten wir die wissenschaftlichen Erkenntnisse\, die literarische und die mystische Seite des Mondes. Auch bei bewölktem Himmel ein nachhaltiges Erlebnis. \nTeilnahme auf eigenes Risiko. Anmeldung notwendig unter Monika@amanntour.de \nKosten pro Person 12 Euro. Kinder bis 12 Jahre frei. \nTreffpunkt um 21:00 Uhr am Sonnentor beim Kurhaus in Dobel.
URL:https://www.straussenclique.de/veranstaltung/sonnenuntergangswanderung-und-vollmondnacht-dobel-nordschwarzwald/
CATEGORIES:Wanderungen
ATTACH;FMTTYPE=image/jpeg:https://www.straussenclique.de/wp-content/uploads/2024/05/dobel.jpg
END:VEVENT
END:VCALENDAR