BEGIN:VCALENDAR
VERSION:2.0
PRODID:-//STRAUSSENCLIQUE - ECPv5.9.1//NONSGML v1.0//EN
CALSCALE:GREGORIAN
METHOD:PUBLISH
X-WR-CALNAME:STRAUSSENCLIQUE
X-ORIGINAL-URL:https://www.straussenclique.de
X-WR-CALDESC:Veranstaltungen für STRAUSSENCLIQUE
BEGIN:VTIMEZONE
TZID:Europe/Berlin
BEGIN:DAYLIGHT
TZOFFSETFROM:+0100
TZOFFSETTO:+0200
TZNAME:CEST
DTSTART:20240331T010000
END:DAYLIGHT
BEGIN:STANDARD
TZOFFSETFROM:+0200
TZOFFSETTO:+0100
TZNAME:CET
DTSTART:20241027T010000
END:STANDARD
END:VTIMEZONE
BEGIN:VEVENT
DTSTART;TZID=Europe/Berlin:20240630T090000
DTEND;TZID=Europe/Berlin:20240630T170000
DTSTAMP:20260422T125141
CREATED:20240628T120755Z
LAST-MODIFIED:20240628T120755Z
UID:108483-1719738000-1719766800@www.straussenclique.de
SUMMARY:Sportive Wanderung von Bad Rotenfels (Gaggenau) zum Bernsteinfels (Nordschwarzwald)
DESCRIPTION:Für alle Kurzentschlossenen bietet Lucie eine sportive Wanderung im Murgtal an. \nCa. 26km und 800HM im flotten Tempo \nStart um 9:00 Uhr am Parkplatz bei der S-Bahn-Haltestelle Bad Rotenfels  \nLink zur Onlinekarte: \nhttps://www.komoot.com/de-de/tour/1672050041?share_token=aiVwXEo6juzxOEkYKg9j0mbqWz1wYFQJEcN20MxHfpczt7EQT5&ref=wtd \nAuf eure Begleitung freue ich mich sehr 😊 \nAnmeldungen direkt an mich: Lucie.Hike@gmail.com
URL:https://www.straussenclique.de/veranstaltung/sportive-wanderung-von-bad-rotenfels-gaggenau-zum-bernsteinfels-nordschwarzwald/
CATEGORIES:Wanderungen
ATTACH;FMTTYPE=image/jpeg:https://www.straussenclique.de/wp-content/uploads/2024/06/bad-rotenfels.jpg
END:VEVENT
END:VCALENDAR