BEGIN:VCALENDAR
VERSION:2.0
PRODID:-//STRAUSSENCLIQUE - ECPv5.9.1//NONSGML v1.0//EN
CALSCALE:GREGORIAN
METHOD:PUBLISH
X-WR-CALNAME:STRAUSSENCLIQUE
X-ORIGINAL-URL:https://www.straussenclique.de
X-WR-CALDESC:Veranstaltungen für STRAUSSENCLIQUE
BEGIN:VTIMEZONE
TZID:Europe/Berlin
BEGIN:DAYLIGHT
TZOFFSETFROM:+0100
TZOFFSETTO:+0200
TZNAME:CEST
DTSTART:20240331T010000
END:DAYLIGHT
BEGIN:STANDARD
TZOFFSETFROM:+0200
TZOFFSETTO:+0100
TZNAME:CET
DTSTART:20241027T010000
END:STANDARD
END:VTIMEZONE
BEGIN:VEVENT
DTSTART;TZID=Europe/Berlin:20240623T100000
DTEND;TZID=Europe/Berlin:20240623T170000
DTSTAMP:20260422T143907
CREATED:20240522T150603Z
LAST-MODIFIED:20240522T151410Z
UID:106874-1719136800-1719162000@www.straussenclique.de
SUMMARY:Sportive Wanderung von Waldkirch auf den Kandel (Mittlerer Schwarzwald)
DESCRIPTION:Von Michaela und Andy kommt folgendes Angebot: Gemeinsam wandern wir von Waldkirch über den Damenpfad bis auf den Kandel\, runter geht es über die Thomashütte. Evtl. machen wir einen Abstecher zum Fensterlewirt. \nBitte beachten: Es handelt sich um eine sportive Wanderung\, gute Kondition und Trittsicherheit erforderlich. \nCa. 20 Km\, 950 Höhenmeter \nTreffpunkt: 10 Uhr vor dem Friedhof in Waldkirch\, Rosenweg 12\, 79183 Waldkirch. \nBei Interesse Schlusseinkehr geplant…Bitte bei Anmeldung angeben\, ob dies gewünscht ist. \nMax. 20 Personen. \nAnmeldung bitte bei Michaela: michaela.baumer@web.de
URL:https://www.straussenclique.de/veranstaltung/sportive-wanderung-von-waldkirch-auf-den-kandel-mittlerer-schwarzwald/
CATEGORIES:Wanderungen
ATTACH;FMTTYPE=image/jpeg:https://www.straussenclique.de/wp-content/uploads/2024/05/DSC_0698.jpg
END:VEVENT
END:VCALENDAR