BEGIN:VCALENDAR
VERSION:2.0
PRODID:-//STRAUSSENCLIQUE - ECPv5.9.1//NONSGML v1.0//EN
CALSCALE:GREGORIAN
METHOD:PUBLISH
X-WR-CALNAME:STRAUSSENCLIQUE
X-ORIGINAL-URL:https://www.straussenclique.de
X-WR-CALDESC:Veranstaltungen für STRAUSSENCLIQUE
BEGIN:VTIMEZONE
TZID:Europe/Berlin
BEGIN:DAYLIGHT
TZOFFSETFROM:+0100
TZOFFSETTO:+0200
TZNAME:CEST
DTSTART:20240331T010000
END:DAYLIGHT
BEGIN:STANDARD
TZOFFSETFROM:+0200
TZOFFSETTO:+0100
TZNAME:CET
DTSTART:20241027T010000
END:STANDARD
END:VTIMEZONE
BEGIN:VEVENT
DTSTART;TZID=Europe/Berlin:20241003T003000
DTEND;TZID=Europe/Berlin:20241003T233000
DTSTAMP:20260421T112124
CREATED:20240905T183853Z
LAST-MODIFIED:20240905T184343Z
UID:110033-1727915400-1727998200@www.straussenclique.de
SUMMARY:Tageswanderung auf den Gantrisch (Berner Oberland)
DESCRIPTION:Fahrt zum Parkplatz Rüschegg Mitte (Mitfahrgelegenheit von P+R-Parkplatz Neuenburg); Wanderung über Gantrischseeli auf die Bürgle (1. Gipfel 2.165 m)\, Morgetepass und auf den Gantrisch (2. Gipfel 2.176 m)\, zurück über Leiterepass und Tschingelflue. Rückfahrt. \nStrecke / Zeit / Höhe: ca. 13 km\, reine Gehzeit ca. 5-6 h\, ca. +/- 1.050 Hm. \nHinweise: \nEs handelt sich um eine private Tour\, jeder geht auf eigene Verantwortung. Die Schwierigkeit bewegt sich im Bereich von T 2 bis T 3. Trittsicherheit\, etwas Schwindelfreiheit und eine gute Kondition sind wichtig. Bitte eigene Rucksackverpflegung mitbringen. Einkehr ggf. nach Absprache. PKW-Fahrtkosten und Parkgebühren werden geteilt. \nDie Tour findet nur bei gutem Wetter statt\, da sich die lange Anfahrt bei Regen oder Nebel nicht lohnt. Alternativtermin ist Samstag\, der 05.10.2024. Bei Interesse bitte angeben\, ob auch der Alternativtermin in Frage kommt.  \nBitte beachten: Jede und jeder ist bei dieser Wanderung für sich selbst verantwortlich und es wird keine Haftung für evtl. auftretende Körper- oder Sachschäden übernommen.   \nRückfragen oder Anmeldung gerne bei: stefanie.burg@gmx.de \n 
URL:https://www.straussenclique.de/veranstaltung/tageswanderung-auf-den-gantrisch-berner-oberland/
CATEGORIES:Wanderungen
ATTACH;FMTTYPE=image/jpeg:https://www.straussenclique.de/wp-content/uploads/2024/09/IMG_0090.jpg
END:VEVENT
END:VCALENDAR