BEGIN:VCALENDAR
VERSION:2.0
PRODID:-//STRAUSSENCLIQUE - ECPv5.9.1//NONSGML v1.0//EN
CALSCALE:GREGORIAN
METHOD:PUBLISH
X-WR-CALNAME:STRAUSSENCLIQUE
X-ORIGINAL-URL:https://www.straussenclique.de
X-WR-CALDESC:Veranstaltungen für STRAUSSENCLIQUE
BEGIN:VTIMEZONE
TZID:Europe/Berlin
BEGIN:DAYLIGHT
TZOFFSETFROM:+0100
TZOFFSETTO:+0200
TZNAME:CEST
DTSTART:20240331T010000
END:DAYLIGHT
BEGIN:STANDARD
TZOFFSETFROM:+0200
TZOFFSETTO:+0100
TZNAME:CET
DTSTART:20241027T010000
END:STANDARD
END:VTIMEZONE
BEGIN:VEVENT
DTSTART;TZID=Europe/Berlin:20241020T100000
DTEND;TZID=Europe/Berlin:20241020T170000
DTSTAMP:20260422T125151
CREATED:20241008T174905Z
LAST-MODIFIED:20241008T174905Z
UID:110643-1729418400-1729443600@www.straussenclique.de
SUMMARY:Über Berge und Täler des Nordschwarzwaldes (Bad Herrenalb\, Nordschwarzwald)
DESCRIPTION:Wolfgang aus Bad Herrenalb geht auf Tour: \nNach dem Start in Bad Herrenalb geht es zuerst steil nach Dobel hoch. Dort können wir hoffentlich die phantastischen Aussichten bis ins Rheintal genießen. Danach steigen wir abwärts ins Eyachtal zum idyllischen Lehmannshof.  Einsame Pfade führen uns hoch zum Langmartskopf u. Hahnenfalzhütte. Über rustikale Felspfade kommen wir wieder runter nach Bad Herrenalb.  \nWer sich fit genug fühlt für ca. 25 km und ca. 900 hm\, kann mich gerne begleiten. Trittsicherheit auf teils steilen Wurzel- u. Felspfaden erforderlich. \nEs sind Vesperpausen eingeplant bei moderatem Tempo. Wanderzeit mit Pausen ca. 7 Std.  \nJe nach Wetterlage kann es auf den Höhen recht kalt sein\, deshalb angepasste Kleidung empfohlen. \nIch werde versuchen in Bad Herrenalb Schlusseinkehr zu organisieren\, bitte angeben ob Teilnahme gewünscht!! \nMax. 20 Teilnehmer \nStart:  So. 20.10    10:00 Rathausplatz Bad Herrenalb\, Parkmöglichkeit im Parkhaus der Sparkasse (umsonst) \nEin kleines Trinkgeld ist willkommen \nAnmeldung über w.oppolzer@t-online.de
URL:https://www.straussenclique.de/veranstaltung/ueber-berge-und-taeler-des-nordschwarzwaldes-bad-herrenalb-nordschwarzwald/
CATEGORIES:Wanderungen
ATTACH;FMTTYPE=image/jpeg:https://www.straussenclique.de/wp-content/uploads/2024/10/bad_herrenalb-scaled.jpg
END:VEVENT
END:VCALENDAR