BEGIN:VCALENDAR
VERSION:2.0
PRODID:-//STRAUSSENCLIQUE - ECPv5.9.1//NONSGML v1.0//EN
CALSCALE:GREGORIAN
METHOD:PUBLISH
X-WR-CALNAME:STRAUSSENCLIQUE
X-ORIGINAL-URL:https://www.straussenclique.de
X-WR-CALDESC:Veranstaltungen für STRAUSSENCLIQUE
BEGIN:VTIMEZONE
TZID:Europe/Berlin
BEGIN:DAYLIGHT
TZOFFSETFROM:+0100
TZOFFSETTO:+0200
TZNAME:CEST
DTSTART:20230326T010000
END:DAYLIGHT
BEGIN:STANDARD
TZOFFSETFROM:+0200
TZOFFSETTO:+0100
TZNAME:CET
DTSTART:20231029T010000
END:STANDARD
END:VTIMEZONE
BEGIN:VEVENT
DTSTART;VALUE=DATE:20230106
DTEND;VALUE=DATE:20230107
DTSTAMP:20260423T140348
CREATED:20221208T105037Z
LAST-MODIFIED:20221208T105423Z
UID:97061-1672963200-1673049599@www.straussenclique.de
SUMMARY:"Urwaldpfade" bei Enzklösterle (Nordschwarzwald)
DESCRIPTION:– Uwe auf Tour – \nVon Enzklösterle aus wandern wir auf\, vielleicht winterlichen\, Urwaldpfaden zum Ursprung der Enz. \nLasst euch überraschen vom Bannwald des oberen Enztal sowie den urigen Wurzelpfaden auf dem Weg zum Kaltenbachsee. \nEine Schlusseinkehr werde ich gerne organisieren. \nStartzeit: 10 Uhr \nLänge: ca. 23km \nHöhenmeter: ca. 500hm \nDer genaue Treffpunkt wird bei der Anmeldung bekanntgegeben. \nAnmeldung an Uwe Forstner:  wanderuwe@gmx.de \nDie Teilnahme an meinen Wanderungen ist kostenlos!!! \nDie Teilnehmerzahl ist begrenzt.
URL:https://www.straussenclique.de/veranstaltung/urwaldpfade-bei-enzkloesterle-nordschwarzwald/
CATEGORIES:Wanderungen
ATTACH;FMTTYPE=image/jpeg:https://www.straussenclique.de/wp-content/uploads/2022/12/24.jpg
END:VEVENT
END:VCALENDAR