BEGIN:VCALENDAR
VERSION:2.0
PRODID:-//STRAUSSENCLIQUE - ECPv5.9.1//NONSGML v1.0//EN
CALSCALE:GREGORIAN
METHOD:PUBLISH
X-WR-CALNAME:STRAUSSENCLIQUE
X-ORIGINAL-URL:https://www.straussenclique.de
X-WR-CALDESC:Veranstaltungen für STRAUSSENCLIQUE
BEGIN:VTIMEZONE
TZID:Europe/Berlin
BEGIN:DAYLIGHT
TZOFFSETFROM:+0100
TZOFFSETTO:+0200
TZNAME:CEST
DTSTART:20240331T010000
END:DAYLIGHT
BEGIN:STANDARD
TZOFFSETFROM:+0200
TZOFFSETTO:+0100
TZNAME:CET
DTSTART:20241027T010000
END:STANDARD
END:VTIMEZONE
BEGIN:VEVENT
DTSTART;TZID=Europe/Berlin:20240616T090000
DTEND;TZID=Europe/Berlin:20240616T170000
DTSTAMP:20260422T174536
CREATED:20240528T173300Z
LAST-MODIFIED:20240528T173806Z
UID:107556-1718528400-1718557200@www.straussenclique.de
SUMMARY:Vogesenrunde Mittlach
DESCRIPTION:Wandern mit Eschbach&Eschbach \nRundwanderung von Mittlach über Rothenbach- und Rainkopf zum Altenweiher und zurück \nCa 22km mit 1000hm\, noch leicht verkürzbar \nRucksackverpflegung\, evtl. Einkehr in Ferme \nTrittsicherheit\, Ausdauer erforderlich \nTeilnahme kostenlos\, Bildung von Fahrgemeinschaften \nMax 20 Teilnehmer \nAnmeldung bei enjoy.hiking@online.de. mit Angabe von Mobilnummer zwecks Whatsappgruppe\, weitere Details werden dort kommuniziert
URL:https://www.straussenclique.de/veranstaltung/vogesenrunde-mittlach/
CATEGORIES:Wanderungen
ATTACH;FMTTYPE=image/jpeg:https://www.straussenclique.de/wp-content/uploads/2024/05/mittlach.jpg
END:VEVENT
END:VCALENDAR