BEGIN:VCALENDAR
VERSION:2.0
PRODID:-//STRAUSSENCLIQUE - ECPv5.9.1//NONSGML v1.0//EN
CALSCALE:GREGORIAN
METHOD:PUBLISH
X-WR-CALNAME:STRAUSSENCLIQUE
X-ORIGINAL-URL:https://www.straussenclique.de
X-WR-CALDESC:Veranstaltungen für STRAUSSENCLIQUE
BEGIN:VTIMEZONE
TZID:Europe/Berlin
BEGIN:DAYLIGHT
TZOFFSETFROM:+0100
TZOFFSETTO:+0200
TZNAME:CEST
DTSTART:20230326T010000
END:DAYLIGHT
BEGIN:STANDARD
TZOFFSETFROM:+0200
TZOFFSETTO:+0100
TZNAME:CET
DTSTART:20231029T010000
END:STANDARD
END:VTIMEZONE
BEGIN:VEVENT
DTSTART;TZID=Europe/Berlin:20230625T092500
DTEND;TZID=Europe/Berlin:20230625T160000
DTSTAMP:20260422T194159
CREATED:20230621T164509Z
LAST-MODIFIED:20230621T165436Z
UID:100991-1687685100-1687708800@www.straussenclique.de
SUMMARY:Vom Belchen nach Schönau (Südschwarzwald)
DESCRIPTION:Ich möchte am 25.06. Sonntag von der Belchentalstation nach Schönau runter laufen. Eine schöne Strecke mit schönen Aussichten und Abschluss im Kaffee Gutmann in Schönau. Ca. 7 Km\, es geht überwiegend nur bergab. \nAbfahrt am Bahnhof Staufen um 9:25 Uhr nach Münstertal\, von da mit dem Bus zum Wiedener Eck im Anschluss dann zur Belchen Talstation. Wanderung nach Schönau. Ca. um 14 Uhr mit dem Bus zum Wiedener Eck dann mit dem Bus nach Münstertal \nAnmeldung bitte bei Josef: josef.haefele@gmx.de
URL:https://www.straussenclique.de/veranstaltung/vom-belchen-nach-schoenau-suedschwarzwald/
CATEGORIES:Wanderungen
ATTACH;FMTTYPE=image/jpeg:https://www.straussenclique.de/wp-content/uploads/2023/06/IMG_2741-scaled.jpg
END:VEVENT
END:VCALENDAR