BEGIN:VCALENDAR
VERSION:2.0
PRODID:-//STRAUSSENCLIQUE - ECPv5.9.1//NONSGML v1.0//EN
CALSCALE:GREGORIAN
METHOD:PUBLISH
X-WR-CALNAME:STRAUSSENCLIQUE
X-ORIGINAL-URL:https://www.straussenclique.de
X-WR-CALDESC:Veranstaltungen für STRAUSSENCLIQUE
BEGIN:VTIMEZONE
TZID:Europe/Berlin
BEGIN:DAYLIGHT
TZOFFSETFROM:+0100
TZOFFSETTO:+0200
TZNAME:CEST
DTSTART:20240331T010000
END:DAYLIGHT
BEGIN:STANDARD
TZOFFSETFROM:+0200
TZOFFSETTO:+0100
TZNAME:CET
DTSTART:20241027T010000
END:STANDARD
END:VTIMEZONE
BEGIN:VEVENT
DTSTART;TZID=Europe/Berlin:20241027T093000
DTEND;TZID=Europe/Berlin:20241027T183000
DTSTAMP:20260420T140332
CREATED:20241008T173533Z
LAST-MODIFIED:20241014T142809Z
UID:110640-1730021400-1730053800@www.straussenclique.de
SUMMARY:Von Wissembourg nach Schweigen-Rechtenbach (Elsass / Pfalz) - Ausgebucht!
DESCRIPTION:Bitte beachten: Wanderung ist ausgebucht. Wir können weitere Anmeldungen entgegennehmen! \nVielen Dank für die tolle Resonanz 🙂 \n  \nIch würde gerne am 27.10.2024 eine Wanderung vom Bahnhof Wissembourg/Elsass nach Schweigen-Rechtenbach anbieten.  \nStrecke etwa 15 bis 18 km\, Höhenmeter 400.  \nWir fahren mit dem Zug von Karlsruhe nach Wissembourg um 09.34. Zurück um 18.33 nach Karlsruhe. \nIch möchte in Schweigen-Rechtenbach entweder in der Weinstube Leilung oder Jülg den Abschluss machen daher nur etwa 10 Teilnehmerinnen/er möglich. \nBitte wer Lust und Zeit hat bis spätestens Samstag\, 12. Oktober melden bei Walter: zirker@web.de \n 
URL:https://www.straussenclique.de/veranstaltung/von-wissembourg-nach-schweigen-rechtenbach-elsass-pfalz/
CATEGORIES:Wanderungen
ATTACH;FMTTYPE=image/jpeg:https://www.straussenclique.de/wp-content/uploads/2024/10/IMG_2619-scaled.jpg
END:VEVENT
END:VCALENDAR