BEGIN:VCALENDAR
VERSION:2.0
PRODID:-//STRAUSSENCLIQUE - ECPv5.9.1//NONSGML v1.0//EN
CALSCALE:GREGORIAN
METHOD:PUBLISH
X-WR-CALNAME:STRAUSSENCLIQUE
X-ORIGINAL-URL:https://www.straussenclique.de
X-WR-CALDESC:Veranstaltungen für STRAUSSENCLIQUE
BEGIN:VTIMEZONE
TZID:Europe/Berlin
BEGIN:DAYLIGHT
TZOFFSETFROM:+0100
TZOFFSETTO:+0200
TZNAME:CEST
DTSTART:20240331T010000
END:DAYLIGHT
BEGIN:STANDARD
TZOFFSETFROM:+0200
TZOFFSETTO:+0100
TZNAME:CET
DTSTART:20241027T010000
END:STANDARD
END:VTIMEZONE
BEGIN:VEVENT
DTSTART;TZID=Europe/Berlin:20240608T113000
DTEND;TZID=Europe/Berlin:20240608T170000
DTSTAMP:20260422T175846
CREATED:20240605T133747Z
LAST-MODIFIED:20240605T133747Z
UID:107643-1717846200-1717866000@www.straussenclique.de
SUMMARY:Waldwanderung Ehrenstetten (Markgräflerland)
DESCRIPTION:Von Frieder kommt folgendes Wanderangebot: \nTreffpunkt Bushaltestelle Oberdorf in Ehrenstetten um 11:30 Uhr. \nRoute: durch den Norsinger Grund hoch zum Laitschenbacher Kopf; ca. 500 Höhenmeter\, ca.16 km\, Mittlere Kondition erforderlich. \nAnmeldung nicht erforderlich\, bei Fragen: sysbe@web.de
URL:https://www.straussenclique.de/veranstaltung/waldwanderung-ehrenstetten-markgraeflerland-2/
CATEGORIES:Wanderungen
ATTACH;FMTTYPE=image/jpeg:https://www.straussenclique.de/wp-content/uploads/2024/05/IMG_5788-scaled.jpg
END:VEVENT
END:VCALENDAR