BEGIN:VCALENDAR
VERSION:2.0
PRODID:-//STRAUSSENCLIQUE - ECPv5.9.1//NONSGML v1.0//EN
CALSCALE:GREGORIAN
METHOD:PUBLISH
X-WR-CALNAME:STRAUSSENCLIQUE
X-ORIGINAL-URL:https://www.straussenclique.de
X-WR-CALDESC:Veranstaltungen für STRAUSSENCLIQUE
BEGIN:VTIMEZONE
TZID:Europe/Berlin
BEGIN:DAYLIGHT
TZOFFSETFROM:+0100
TZOFFSETTO:+0200
TZNAME:CEST
DTSTART:20260329T010000
END:DAYLIGHT
BEGIN:STANDARD
TZOFFSETFROM:+0200
TZOFFSETTO:+0100
TZNAME:CET
DTSTART:20261025T010000
END:STANDARD
END:VTIMEZONE
BEGIN:VEVENT
DTSTART;VALUE=DATE:20260517
DTEND;VALUE=DATE:20260518
DTSTAMP:20260421T112051
CREATED:20260413T184543Z
LAST-MODIFIED:20260413T184543Z
UID:120859-1778976000-1779062399@www.straussenclique.de
SUMMARY:Wanderung Altensteiger Natur Erlebnispfad (Nordschwarzwald)
DESCRIPTION:Streckenlänge: ca. 12Km  \nHöhe: ca. 260 HM  \nEs ist eine wunderschöne Tour\, bin sie bereits gelaufen.   \nDer Natur-Erlebnis-Pfad verbindet beeindruckende Aussichten\, mystische Waldabschnitte\, idyllische Flussläufe und kulturelle Höhepunkte. \nDer Wanderung bietet dir kulturelle Highlights im Nagoldtal wie auch ganz einsame Fleckchen mitten in der Natur. Hier lässt es sich wunderbar aushalten – auch an wärmeren Tagen.  \nDas ist eine private Wanderung. Die Teilnahme erfolgt auf eigene Gefahr.  \nIch übernehme keinerlei Haftung für Personen- Sach -oder Vermögensschäden die in Zusammenhang der Wanderung entstehen können.   \nMit der Teilnahme bestätigen die Teilnehmenden dass sie den Haftungsausschluss zur Kenntnis genommen haben und damit einverstanden sind.  \nBei Schlechtwetter fällt die Wanderung aus\, wird hier bekannt gegeben. \nHinweis: wir laufen ohne Hunde  \nTreffpunkt: 09:00 Uhr in 72213 Altensteig\, Den genauen Treffpunkt teile ich bei Anmeldung mit: t_schmid_63@web.de \nLG  \nThea
URL:https://www.straussenclique.de/veranstaltung/wanderung-altensteiger-natur-erlebnispfad-nordschwarzwald/
CATEGORIES:Wanderungen
ATTACH;FMTTYPE=image/jpeg:https://www.straussenclique.de/wp-content/uploads/2026/04/IMG_20230204_125639_621.jpg
END:VEVENT
END:VCALENDAR