BEGIN:VCALENDAR
VERSION:2.0
PRODID:-//STRAUSSENCLIQUE - ECPv5.9.1//NONSGML v1.0//EN
CALSCALE:GREGORIAN
METHOD:PUBLISH
X-WR-CALNAME:STRAUSSENCLIQUE
X-ORIGINAL-URL:https://www.straussenclique.de
X-WR-CALDESC:Veranstaltungen für STRAUSSENCLIQUE
BEGIN:VTIMEZONE
TZID:Europe/Berlin
BEGIN:DAYLIGHT
TZOFFSETFROM:+0100
TZOFFSETTO:+0200
TZNAME:CEST
DTSTART:20240331T010000
END:DAYLIGHT
BEGIN:STANDARD
TZOFFSETFROM:+0200
TZOFFSETTO:+0100
TZNAME:CET
DTSTART:20241027T010000
END:STANDARD
END:VTIMEZONE
BEGIN:VEVENT
DTSTART;TZID=Europe/Berlin:20240612T100000
DTEND;TZID=Europe/Berlin:20240612T170000
DTSTAMP:20260420T140157
CREATED:20240604T163846Z
LAST-MODIFIED:20240604T164624Z
UID:107635-1718186400-1718211600@www.straussenclique.de
SUMMARY:Wanderung Badenweiler – Hochblauen (Markgräflerland)
DESCRIPTION:Rundwanderung\, 16 Km\, 800 Höhenmeter.  \nEs geht über die Burg Baden\, Hochblauen (1165 m)\, Stockberg\, Müllheimer Egerten\, Rüttekopfschutzhütte\, Altensteinbachtal und Vogelbachtal zum Ausgangspunkt.   \nTreffpunkt: 10 Uhr in Badenweiler bei der Totentanz-Kirche. Fahrgemeinschaft ab (Titisee)-Neustadt möglich. \nWie immer Rucksackverpflegung. Endeinkehr?  \nAnmeldung bei Sigrun per E-Mail spätestens 2 Tage zuvor: sg.dietrich@gmx.de mit vollständigen Vor- und Nachnamen und Angabe der Handynummer.
URL:https://www.straussenclique.de/veranstaltung/wanderung-badenweiler-hochblauen-markgraeflerland/
CATEGORIES:Wanderungen
ATTACH;FMTTYPE=image/jpeg:https://www.straussenclique.de/wp-content/uploads/2024/06/IMG_3512-scaled.jpg
END:VEVENT
END:VCALENDAR