BEGIN:VCALENDAR
VERSION:2.0
PRODID:-//STRAUSSENCLIQUE - ECPv5.9.1//NONSGML v1.0//EN
CALSCALE:GREGORIAN
METHOD:PUBLISH
X-WR-CALNAME:STRAUSSENCLIQUE
X-ORIGINAL-URL:https://www.straussenclique.de
X-WR-CALDESC:Veranstaltungen für STRAUSSENCLIQUE
BEGIN:VTIMEZONE
TZID:Europe/Berlin
BEGIN:DAYLIGHT
TZOFFSETFROM:+0100
TZOFFSETTO:+0200
TZNAME:CEST
DTSTART:20240331T010000
END:DAYLIGHT
BEGIN:STANDARD
TZOFFSETFROM:+0200
TZOFFSETTO:+0100
TZNAME:CET
DTSTART:20241027T010000
END:STANDARD
END:VTIMEZONE
BEGIN:VEVENT
DTSTART;TZID=Europe/Berlin:20240609T103000
DTEND;TZID=Europe/Berlin:20240609T170000
DTSTAMP:20260420T185911
CREATED:20240605T144125Z
LAST-MODIFIED:20240605T144125Z
UID:107645-1717929000-1717952400@www.straussenclique.de
SUMMARY:Wanderung bei Albersweiler (Südliche Weinstraße)
DESCRIPTION:Am 9.6.2024 möchte ich eine Wanderung bei Albersweiler in der schönen Pfalz anbieten. Die Tour führt uns zunächst auf den Hohenberg (ca. 550 m ü. NHN). Der Anstieg ist zwar etwas schweißtreibend\, aber oben angekommen\, werden wir mit einer herrlichen Aussicht belohnt. Wir laufen hinab zum Zollstock und von dort aus weiter über die Wallfahrtsstätte Kaltenbrunn zur Burgruine Neukastell. Bei letzterer handelt es sich zwar nur noch um einen Felsen\, von diesem aus kann man aber man eine schöne Aussicht auf Leinsweiler\, die Madenburg und das Rebenmeer der Südlichen Weinstraße genießen. Durch Wald und Weinberge gelangen wir zur Kolpinghütte und von dort schließlich zurück zum Ausgangspunkt. \nDie geplante Strecke ist ca. 16 km lang und es sind 600 Höhenmeter zu überwinden. Je nach Lust und Laune können wir in der Kolpinghütte einkehren\, bei Bedarf dennoch besser Rücksackverpflegung mitnehmen\, zumal wir die Hütte erst gegen Ende der Strecke erreichen. \nDie Wanderung findet nur bei passablen Wetterbedingungen statt (vorher bitte unbedingt nochmal in eurem E-Mail-Account nachschauen).  \nWir treffen uns um 10:30 Uhr am Bahnhof Albersweiler.   \nAnmeldung bei Nicole unter mahima32@gmx.de\, bitte mit Angabe eurer Handynummer. Wer eine MfG sucht oder anzubieten hat\, kann mir das gerne mitteilen\, vielleicht lässt sich etwas organisieren.  \nTeilnehmerzahl mind. 5 max. 20 Personen.  
URL:https://www.straussenclique.de/veranstaltung/wanderung-bei-albersweiler-suedliche-weinstrasse/
CATEGORIES:Wanderungen
ATTACH;FMTTYPE=image/jpeg:https://www.straussenclique.de/wp-content/uploads/2024/06/01.jpg
END:VEVENT
END:VCALENDAR