BEGIN:VCALENDAR
VERSION:2.0
PRODID:-//STRAUSSENCLIQUE - ECPv5.9.1//NONSGML v1.0//EN
CALSCALE:GREGORIAN
METHOD:PUBLISH
X-WR-CALNAME:STRAUSSENCLIQUE
X-ORIGINAL-URL:https://www.straussenclique.de
X-WR-CALDESC:Veranstaltungen für STRAUSSENCLIQUE
BEGIN:VTIMEZONE
TZID:Europe/Berlin
BEGIN:DAYLIGHT
TZOFFSETFROM:+0100
TZOFFSETTO:+0200
TZNAME:CEST
DTSTART:20230326T010000
END:DAYLIGHT
BEGIN:STANDARD
TZOFFSETFROM:+0200
TZOFFSETTO:+0100
TZNAME:CET
DTSTART:20231029T010000
END:STANDARD
END:VTIMEZONE
BEGIN:VEVENT
DTSTART;TZID=Europe/Berlin:20231112T091500
DTEND;TZID=Europe/Berlin:20231112T170000
DTSTAMP:20260421T130137
CREATED:20231107T191629Z
LAST-MODIFIED:20231107T191629Z
UID:103319-1699780500-1699808400@www.straussenclique.de
SUMMARY:Wanderung Ravennaschlucht (Hochschwarzwald)
DESCRIPTION:15 km und 450 Höhenmeter hoch und runter (alpine Steige) nur wenn es trocken ist \nbei feuchtem Wetter 7\,3 km und 200 hoch und runter. \nTreffpunkt: Bhf Hinterzarten um 9:15 Uhr; ab Neustadt 8:58 Uhr\, ab Freiburg 8:37 Uhr \nTrittsicherheit unbedingt erforderlich!  \nmax. 10 Personen\, Rucksackverpflegung\, Endeinkehr möglich. \nAm Mittwoch wandert Sigrun die Tour für den kommenden Sonntag vor und würde sich über Mitwanderer freuen. \nAnmeldung bei Sigrun per E-Mail spätestens 2 Tage zuvor: sg.dietrich@gmx.de mit Angabe der Handynummer.
URL:https://www.straussenclique.de/veranstaltung/wanderung-ravennaschlucht-hochschwarzwald/
CATEGORIES:Wanderungen
ATTACH;FMTTYPE=image/jpeg:https://www.straussenclique.de/wp-content/uploads/2023/11/Dreiseenbahn-scaled.jpg
END:VEVENT
END:VCALENDAR