BEGIN:VCALENDAR
VERSION:2.0
PRODID:-//STRAUSSENCLIQUE - ECPv5.9.1//NONSGML v1.0//EN
CALSCALE:GREGORIAN
METHOD:PUBLISH
X-WR-CALNAME:STRAUSSENCLIQUE
X-ORIGINAL-URL:https://www.straussenclique.de
X-WR-CALDESC:Veranstaltungen für STRAUSSENCLIQUE
BEGIN:VTIMEZONE
TZID:Europe/Berlin
BEGIN:DAYLIGHT
TZOFFSETFROM:+0100
TZOFFSETTO:+0200
TZNAME:CEST
DTSTART:20230326T010000
END:DAYLIGHT
BEGIN:STANDARD
TZOFFSETFROM:+0200
TZOFFSETTO:+0100
TZNAME:CET
DTSTART:20231029T010000
END:STANDARD
END:VTIMEZONE
BEGIN:VEVENT
DTSTART;TZID=Europe/Berlin:20231119T090000
DTEND;TZID=Europe/Berlin:20231119T170000
DTSTAMP:20260421T130208
CREATED:20231107T192000Z
LAST-MODIFIED:20231117T065948Z
UID:103322-1700384400-1700413200@www.straussenclique.de
SUMMARY:Wanderung rund um Hinterzarten (Hochschwarzwald) - Abgesagt!!!
DESCRIPTION:**** Bitte beachten: Wanderung ist abgesagt **** \nVon Hinterzarten über Hinderwaldkopfsattel zum Horneck (1222 m); Rundwanderung \nCa. 18 km und 400 hoch und runter \nTreffpunkt Bhf Hinterzarten um 9 Uhr  \nmax. 10 Personen\, Rucksackverpflegung\, Endeinkehr möglich. \nAm Mittwoch wandert Sigrun die Tour für den kommenden Sonntag vor und würde sich über Mitwanderer freuen. \nAnmeldung bei Sigrun per E-Mail spätestens 2 Tage zuvor: sg.dietrich@gmx.de mit Angabe der Handynummer.
URL:https://www.straussenclique.de/veranstaltung/wanderung-rund-um-hinterzarten-hochschwarzwald/
CATEGORIES:Wanderungen
ATTACH;FMTTYPE=image/jpeg:https://www.straussenclique.de/wp-content/uploads/2023/11/20230507_112256-scaled.jpg
END:VEVENT
END:VCALENDAR