BEGIN:VCALENDAR
VERSION:2.0
PRODID:-//STRAUSSENCLIQUE - ECPv5.9.1//NONSGML v1.0//EN
CALSCALE:GREGORIAN
METHOD:PUBLISH
X-WR-CALNAME:STRAUSSENCLIQUE
X-ORIGINAL-URL:https://www.straussenclique.de
X-WR-CALDESC:Veranstaltungen für STRAUSSENCLIQUE
BEGIN:VTIMEZONE
TZID:Europe/Berlin
BEGIN:DAYLIGHT
TZOFFSETFROM:+0100
TZOFFSETTO:+0200
TZNAME:CEST
DTSTART:20230326T010000
END:DAYLIGHT
BEGIN:STANDARD
TZOFFSETFROM:+0200
TZOFFSETTO:+0100
TZNAME:CET
DTSTART:20231029T010000
END:STANDARD
END:VTIMEZONE
BEGIN:VEVENT
DTSTART;TZID=Europe/Berlin:20231007T093000
DTEND;TZID=Europe/Berlin:20231007T170000
DTSTAMP:20260421T130234
CREATED:20230925T155521Z
LAST-MODIFIED:20230925T155521Z
UID:102363-1696671000-1696698000@www.straussenclique.de
SUMMARY:Wanderung „Stausee -Wasserfälle-Schöne Pfade“ ab Bad Rippoldsau (Nordschwarzwald)
DESCRIPTION:Liebe Wanderfreunde\, \nDieses Mal biete ich eine Wanderung ab Bad Rippoldsau an. Es geht über schöne Wurzelpfade zum Stausee Kleine Kinzig\, zu zwei Wasserfällen\, vorbei an schönen Felsen. Die Wanderung ist aufgrund des Höhenprofiles sportiv. \nDie Teilnehmerzahl ist begrenzt. \nTreffpunkt wird bei Anmeldung unter wanderuwe@gmx.de bekanntgegeben.  \nStart: 9:30Uhr \nLänge: ca. 24km\, Höhendifferenz: ca. 850hm
URL:https://www.straussenclique.de/veranstaltung/wanderung-stausee-wasserfaelle-schoene-pfade-ab-bad-rippoldsau-nordschwarzwald/
CATEGORIES:Wanderungen
ATTACH;FMTTYPE=image/jpeg:https://www.straussenclique.de/wp-content/uploads/2023/09/1000095202-scaled.jpg
END:VEVENT
END:VCALENDAR