BEGIN:VCALENDAR
VERSION:2.0
PRODID:-//STRAUSSENCLIQUE - ECPv5.9.1//NONSGML v1.0//EN
CALSCALE:GREGORIAN
METHOD:PUBLISH
X-WR-CALNAME:STRAUSSENCLIQUE
X-ORIGINAL-URL:https://www.straussenclique.de
X-WR-CALDESC:Veranstaltungen für STRAUSSENCLIQUE
BEGIN:VTIMEZONE
TZID:Europe/Berlin
BEGIN:DAYLIGHT
TZOFFSETFROM:+0100
TZOFFSETTO:+0200
TZNAME:CEST
DTSTART:20240331T010000
END:DAYLIGHT
BEGIN:STANDARD
TZOFFSETFROM:+0200
TZOFFSETTO:+0100
TZNAME:CET
DTSTART:20241027T010000
END:STANDARD
END:VTIMEZONE
BEGIN:VEVENT
DTSTART;TZID=Europe/Berlin:20240630T085000
DTEND;TZID=Europe/Berlin:20240630T170000
DTSTAMP:20260420T143508
CREATED:20240618T180059Z
LAST-MODIFIED:20240618T180059Z
UID:107715-1719737400-1719766800@www.straussenclique.de
SUMMARY:Wanderung von Loffenau auf die Teufelsmühle (Nordschwarzwald)
DESCRIPTION:Am 30.6.2024 möchte ich eine Wanderung von Loffenau auf die Teufelsmühle anbieten. Die Tour führt uns über den Bockstein und das Große Loch (Teufelskammern) auf die Teufelsmühle. Der Aufstieg ist teilweise recht knackig\, oben angekommen werden wir vom Teufelsmühlenturm aus jedoch mit einem herrlichen Ausblick auf die Wälder und das Murgtal\, bei klarem Wetter bis zu den Vogesen und dem Pfälzer Wald belohnt. Nach einer ausgiebigen Rast laufen wir über den Zick-Zack-Pfad und entlang des Lautenbachs zur Illertkapelle. Von dort gelangen wir über Wald und Streuobstwiesen zurück nach Loffenau und erreichen nach einer kleinen Extrarunde schließlich den Ausgangspunkt.  \nDie geplante Strecke ist ca. 14 km lang und es sind 650 Höhenmeter zu überwinden. Eine Einkehr unterwegs ist nicht vorgesehen\, bei Bedarf also Rucksackverpflegung mitnehmen. \nDie Wanderung findet nur bei passablen Wetterbedingungen statt (vorher bitte unbedingt nochmal in eurem E-Mail-Account nachschauen). \nWir treffen uns um 8:50 Uhr vor der Wiener Feinbäckerei am Karlsruher Hbf und fahren mit Bahn (Abfahrt 9:06 Uhr) und Bus nach Loffenau. Für die Autofahrer: Treffen um 10:15 Uhr an der Haltestelle Obere Dorfstraße\, Loffenau.  \nAnmeldung bei Nicole unter mahima32@gmx.de\, bitte mit Angabe eurer Handynummer.  \nTeilnehmerzahl: max. 15 Personen.  
URL:https://www.straussenclique.de/veranstaltung/wanderung-von-loffenau-auf-die-teufelsmuehle-nordschwarzwald/
CATEGORIES:Wanderungen
ATTACH;FMTTYPE=image/jpeg:https://www.straussenclique.de/wp-content/uploads/2024/06/IMG_2288-scaled.jpg
END:VEVENT
END:VCALENDAR