BEGIN:VCALENDAR
VERSION:2.0
PRODID:-//STRAUSSENCLIQUE - ECPv5.9.1//NONSGML v1.0//EN
CALSCALE:GREGORIAN
METHOD:PUBLISH
X-WR-CALNAME:STRAUSSENCLIQUE
X-ORIGINAL-URL:https://www.straussenclique.de
X-WR-CALDESC:Veranstaltungen für STRAUSSENCLIQUE
BEGIN:VTIMEZONE
TZID:Europe/Berlin
BEGIN:DAYLIGHT
TZOFFSETFROM:+0100
TZOFFSETTO:+0200
TZNAME:CEST
DTSTART:20230326T010000
END:DAYLIGHT
BEGIN:STANDARD
TZOFFSETFROM:+0200
TZOFFSETTO:+0100
TZNAME:CET
DTSTART:20231029T010000
END:STANDARD
END:VTIMEZONE
BEGIN:VEVENT
DTSTART;TZID=Europe/Berlin:20231015T100000
DTEND;TZID=Europe/Berlin:20231015T170000
DTSTAMP:20260421T111743
CREATED:20231004T155132Z
LAST-MODIFIED:20231004T155209Z
UID:102527-1697364000-1697389200@www.straussenclique.de
SUMMARY:Wasserfallsteig (Hochschwarzwald)
DESCRIPTION:11\,4 km; 417 Hm runter und 634 Hm runter \nTreffpunkt: 9:30 Uhr Bushaltestelle Hebelhof  \nBus ab Titisee um 9 Uhr  \nVom Fahler Wasserfall über Brandenberg zum Todtnauer Wasserfall  \nmax. 10 Personen\, Rucksackverpflegung\, Endeinkehr möglich. \nDiesen Mittwoch keine Vorwanderung \nAnmeldung bei Sigrun per E-Mail spätestens 2 Tage zuvor: sg.dietrich@gmx.de mit Angabe der Handynummer.
URL:https://www.straussenclique.de/veranstaltung/wasserfallsteig-hochschwarzwald/
CATEGORIES:Wanderungen
ATTACH;FMTTYPE=image/jpeg:https://www.straussenclique.de/wp-content/uploads/2023/09/04.jpg
END:VEVENT
END:VCALENDAR