BEGIN:VCALENDAR
VERSION:2.0
PRODID:-//STRAUSSENCLIQUE - ECPv5.9.1//NONSGML v1.0//EN
CALSCALE:GREGORIAN
METHOD:PUBLISH
X-WR-CALNAME:STRAUSSENCLIQUE
X-ORIGINAL-URL:https://www.straussenclique.de
X-WR-CALDESC:Veranstaltungen für STRAUSSENCLIQUE
BEGIN:VTIMEZONE
TZID:Europe/Berlin
BEGIN:DAYLIGHT
TZOFFSETFROM:+0100
TZOFFSETTO:+0200
TZNAME:CEST
DTSTART:20240331T010000
END:DAYLIGHT
BEGIN:STANDARD
TZOFFSETFROM:+0200
TZOFFSETTO:+0100
TZNAME:CET
DTSTART:20241027T010000
END:STANDARD
END:VTIMEZONE
BEGIN:VEVENT
DTSTART;TZID=Europe/Berlin:20240705T103000
DTEND;TZID=Europe/Berlin:20240705T170000
DTSTAMP:20260420T151751
CREATED:20240702T175425Z
LAST-MODIFIED:20240702T175425Z
UID:108556-1720175400-1720198800@www.straussenclique.de
SUMMARY:Griesbacher Wasserfälle "Teufelskanzelsteig-mit-Abstecher-zum-Glaswaldsee“ bei Bad Peterstal (Nordschwarzwald)
DESCRIPTION:Mittelschwere Wanderung. Gute Grundkondition erforderlich\, Genusswandern steht im Vordergrund\, nicht Tempo. 13 KM. 500 Höhenmeter. Dauer ca. 5 h.  \nWanderung mit einem sehr hohen Pfadanteil und SteigTreppen; imposante Gesteinsformationen und versteckte Kraftorte\, ein Wasserfall in ursprünglicher Natur – auf dieser knapp 13 Kilometer langen Tour gibt es einiges zu entdecken. Ich selbst wandere diesen Weg auch zum ersten Mal und bin gespannt. Ein Freund von mir (Michael) ist schon angemeldet. \nGerne darf es eine kleine Gruppe geben.  \nTermin: Freitag\, den 05. Juni 2024 \nStart: Parkplatz Kreuzkopfschanzebei Griesbach-St. Peterstal \nUhrzeit 10:30 Uhr \nEnde ca. 17:00 Uhr \nEs gibt nur am Ende eine Einkehrmöglichkeit (Griesbach). Zwischendurch gibt es eine Getränkestation (Marienhöhe). \nMaximal 8 Personen; Bitte per e-mail und Handynummer anmelden bei Johannes Schwan: gefuehltafrikagesehen@gmail.com \nKosten entstehen keine. 
URL:https://www.straussenclique.de/veranstaltung/griesbacher-wasserfaelle-teufelskanzelsteig-mit-abstecher-zum-glaswaldsee-bei-bad-peterstal-nordschwarzwald/
CATEGORIES:Wanderungen
ATTACH;FMTTYPE=image/jpeg:https://www.straussenclique.de/wp-content/uploads/2024/07/02.jpg
END:VEVENT
BEGIN:VEVENT
DTSTART;VALUE=DATE:20240706
DTEND;VALUE=DATE:20240709
DTSTAMP:20260420T151751
CREATED:20240618T181736Z
LAST-MODIFIED:20240630T180003Z
UID:107718-1720224000-1720483199@www.straussenclique.de
SUMMARY:Alpstein mit Säntis - Hüttenwanderung - Abgesagt!
DESCRIPTION:**** Verschoben auf den 17. – 19. August: https://www.straussenclique.de/veranstaltung/108486 **** \n  \n06.07.2024 (Samstag): Fahrgemeinschaften ab Freiburg; Fahrt nach Wasserauen; Wanderung zum Berggasthaus Ruhesitz und Besteigung des Hohen Kasten (1.795 m) (ca. 950 Hm im Aufstieg; ca. 500 Hm im Abstieg; Gehzeit ca. 4-5 h) \n07.07.2024 (Sonntag): Gratwanderung mit Gipfel Mutschen (2.122 m) zur Zwinglipasshütte (ca. 1.200 Hm im Aufstieg; ca. 500 Hm im Abstieg; Gehzeit ca. 6 h) \n08.07.2024 (Montag): Besteigung des Säntis (2.502 m) über den Lisengrat\, Abstieg über Himmelsleiter\, Wanderung bis Ebenalp und Seilbahnfahrt nach Wasserauen (ca. 900 Hm im Aufstieg; ca. 1.300 Hm im Abstieg; Gehzeit ca. 6 h)\, Rückfahrt \nHinweise: \nEs handelt sich um eine private Tour\, jeder geht auf eigene Verantwortung. \nDas Gepäck für die drei Tage muss selbst getragen werden. Es sollte Trittsicherheit\, Schwindelfreiheit (ca. T 2 bis T 3) und eine gute Kondition (bis ca. 1.200 Hm im Auf- und Abstieg) gegeben sein. Aufgrund des Frühsommers ist mit Schneefeldern zu rechnen. \nUnterkunft: beide Übernachtungen (Berggasthaus Ruhesitz und Zwinglipasshütte) sind einfach im Lager mit einfachen sanitären Einrichtungen. \nZu den Kosten: \nBerggasthaus Ruhesitz: ca. 45 CHF + Abendessen und Getränke\, Zwinglipasshütte: ca. 65 CHF (ohne DAV-Mitgliedschaft) für Halbpension + Getränke \nZusätzliche Kosten: Seilbahn 24 CHF; PKW-Fahrtkosten werden geteilt; ggf. Einkehr mittags. \nNur der Vollständigkeit halber müssen wir erwähnen\, dass Jeder bei dieser Wanderung für sich selbst verantwortlich ist\, und keine Haftung für evtl. auftretende Körper- oder Sachschäden übernommen werden kann. Sorry für diese Information – aber die Gesetzeslage verlangt diese Info.   \nAnmeldungen und Rückfragen bei Stefanie per E-Mail: stefanie.burg@gmx.de
URL:https://www.straussenclique.de/veranstaltung/alpstein-mit-saentis-huettenwanderung/
CATEGORIES:Wanderungen
ATTACH;FMTTYPE=image/jpeg:https://www.straussenclique.de/wp-content/uploads/2024/06/IMG_0294.jpg
END:VEVENT
BEGIN:VEVENT
DTSTART;TZID=Europe/Berlin:20240707T093000
DTEND;TZID=Europe/Berlin:20240707T170000
DTSTAMP:20260420T151751
CREATED:20240630T180801Z
LAST-MODIFIED:20240630T180801Z
UID:108490-1720344600-1720371600@www.straussenclique.de
SUMMARY:Heidelbeerweg meets Urwaldpfade (Nordschwarzwald)
DESCRIPTION:Genau zur Heidelbeerzeit möchte ich mit Euch den Premiumwanderweg – Heidelbeerweg in Enzklösterle laufen. Diesen werden wir allerdings zwischendurch verlassen und wandern weiter zur Enzquelle um dann über die Urwaldpfade zum Kaltenbachsee und zum Bärlochkar zu wandern. Danach geht es wieder über den Heidelbeerweg zurück zum Ausgangspunkt. \nGutes Schuhwerk\, Trittsicherheit und Kondition für diese Strecke werden vorausgesetzt.  \nSchlusseinkehr wird kurzfristig geplant. (Bitte bei der Anmeldung mit angeben ob gewünscht) \nTreffpunkt wird bei Anmeldung bekanntgegeben.  \nTourdaten: \nLänge ca. 25.5km \nHöhenmeter ca. 750hm  \nStartzeit 9:30 \nTeilnehmer min 5 / max 20 \nAnmeldung an Uwe: wanderuwe@gmx.de 
URL:https://www.straussenclique.de/veranstaltung/heidelbeerweg-meets-urwaldpfade-nordschwarzwald/
CATEGORIES:Wanderungen
ATTACH;FMTTYPE=image/jpeg:https://www.straussenclique.de/wp-content/uploads/2024/06/heidelbeerweg.jpg
END:VEVENT
BEGIN:VEVENT
DTSTART;TZID=Europe/Berlin:20240707T094500
DTEND;TZID=Europe/Berlin:20240707T170000
DTSTAMP:20260420T151751
CREATED:20240626T133905Z
LAST-MODIFIED:20240626T133905Z
UID:108434-1720345500-1720371600@www.straussenclique.de
SUMMARY:Wanderung Münstertal - Kälbelescheuer - Staufen (Südschwarzwald)
DESCRIPTION:Streckenwanderung ca. 24 km und 600 Höhenmeter  \nTreffpunkt: Bhf Münstertal um 9:45 Uhr  \nVom Bhf steigen wir über das Köpfle\, Gabler – Eck – Hütte\, Kaiberkopf (940 m ) zur Kälbelescheuer (910 m) auf. Dann geht es über den Riesterkopf (762 m)\, Enggründle – Kopf (704 m) und Katzenstuhl (591 m) nach Staufen ab. \nBei Stark- Regen fällt die Wanderung aus.  \nWie immer Rucksackverpflegung und Endeinkehr möglich.  \nBegrenzte Teilnehmer\, Trittsicherheit erforderlich.  \nAnmeldung bei Sigrun per E-Mail spätestens 2 Tage zuvor: sg.dietrich@gmx.de mit vollständigen Vor- und Nachnamen und Angabe der Handynummer.
URL:https://www.straussenclique.de/veranstaltung/wanderung-muenstertal-kaelbelescheuer-staufen-suedschwarzwald/
CATEGORIES:Wanderungen
ATTACH;FMTTYPE=image/jpeg:https://www.straussenclique.de/wp-content/uploads/2024/06/IMG_4975-scaled.jpg
END:VEVENT
BEGIN:VEVENT
DTSTART;TZID=Europe/Berlin:20240707T100000
DTEND;TZID=Europe/Berlin:20240707T170000
DTSTAMP:20260420T151751
CREATED:20240619T175242Z
LAST-MODIFIED:20240619T175242Z
UID:107746-1720346400-1720371600@www.straussenclique.de
SUMMARY:Wanderung Mühlbach – Ottilienberg (Kraichgau/Stromberg)
DESCRIPTION:Treffpunkt für die 16 Kilometer ist um 10 Uhr am Parkplatz in Eppingen-Mühlbach am dortigen See. Die Zufahrt ist trotz Straßensperrung möglich. \nLink zur Onlinekarte: \nhttps://www.komoot.com/de-de/tour/1651013161?ref=itd&share_token=aGUJLyYIn2iCaoPKDeKvn811ffKMeoU7IxGRpy8n5xb5zb8Qvu \nVielleicht hat jemand Interesse an dieser Tour. Wenn ja\, kann er sich bei mir (Anita) unter b.anita.buchwald@gmail.com anmelden.
URL:https://www.straussenclique.de/veranstaltung/wanderung-muehlbach-ottilienberg-kraichgau-stromberg/
CATEGORIES:Wanderungen
ATTACH;FMTTYPE=image/jpeg:https://www.straussenclique.de/wp-content/uploads/2024/06/muehlbach.jpg
END:VEVENT
BEGIN:VEVENT
DTSTART;TZID=Europe/Berlin:20240707T100000
DTEND;TZID=Europe/Berlin:20240707T170000
DTSTAMP:20260420T151751
CREATED:20240626T151531Z
LAST-MODIFIED:20240626T151531Z
UID:108437-1720346400-1720371600@www.straussenclique.de
SUMMARY:Sportwanderung Baden-Baden
DESCRIPTION:Baden-Baden Oos\, Hardberg\, Hohenbaden\, Battert\, Ebersteinburg\, Wolfsschlucht \nLiebe Wanderer\, \nEin neues Wander Highlight wartet auf uns: Sportwanderung: Baden Oos\, Hardberg\, Hohenbaden\, Battert\, Ebersteinburg\, Wolfsschlucht \nTreffpunkt: So. 07.08.2024; Hauptbahnhof Baden-Baden; (Google Maps) 10:00 Uhr vor dem Haupteingang \nAnforderung: T2-3; (SAC-Wanderskala) \nWanderausrüstung\, Tagesverpflegung\, Regenbekleidung\, geeignete Wanderschuhe für alpine Wege \nRundtour: Ja \nEinkehr: geplant\, wird vor Ort besprochen (bitte Teilnahme wegen Reservierung dokumentieren) \nHighlights: Hohlwege\, Hardberg mit Gipfelkreuz\, Kellersbild\, Staufer Stele\, Burgruine Hohenbaden (Altes Schloss)\, Ritterplatte\, Battert Felsen mit den hängenden Felsen und Bismarck Massiv\, Alt Eberstein (Burgruine)\, Wolfshöhle\, Wolfsschlucht\, Lukas Hütte mit Gipfelkreuz\, Engelskanzel\, Einsiedler Pfad durch den Battert\, Sophienruhe\, Panoramaweg\, Wörtböschelpark mit Flusslandschaft und viele Brunnen mit erfrischendem Quellwasser. \nDetails\, Wichtige Informationen und Bilder unter Outdooractive: \nhttps://www.outdooractive.com/de/route/wanderung/schwarzwald/sport-wanderung-bd-oos-hardberg-hohenbaden-battert-ebersteinburg-/189338056 \nIch freue mich auf ein positives Feedback auf Outdooractive. \nSchwierigkeit schwer  \nStrecke 26\,3 km\, Dauer 6:00 h\, Aufstieg 1.035 hm\, Abstieg 1.035 hm  \nEin Weg der Superlative. Wer keinen Sonntagsspaziergang machen möchte\, sondern auch mal zeigen will\, was in ihm steckt\, dann ist dieser Weg genau das Richtige. Nicht zu schwer und nicht zu leicht. Der Wanderer sollte geübt und trittsicher sein. Gutes Schuhwerk und Proviant sollten nicht vergessen werden. \nSicherheitshinweis/Ausrüstung: Trittsicherheit\, entsprechendes Schuhwerk für alpine Wege. Bei Nässe ist mit glitschigen und rutschigen Stellen zu rechnen. \nAnmeldeschluss: 05.07.2024 \nAnmeldung: Gerd’s Wandergruppe\, gg.wandern@gmail.com (Vorname\, Nachname\, Handynummer und E-Mail Adresse angeben) \nMitfahrgelegenheit: Bitte angeben ob\, Fahrer oder Suchender mit Standort (Absprache erfolgt in der Whatsapp Gruppe) \nWegen Wetter oder aktuellem Anlass behalten wir uns vor: Durch- und Streckenführung sowie Treff- und Zeitpunkt zu ändern. \nFreizeitsport ist mit Gefahren verbunden und Unfälle können auch bei großer Sorgfalt unserer Wanderführer*Innen nicht gänzlich ausgeschlossen. Der Schwarzwaldverein übernimmt bei Unfällen etc. keine Haftung. \nLG \nPetra und Gerd
URL:https://www.straussenclique.de/veranstaltung/sportwanderung-baden-baden/
CATEGORIES:Wanderungen
ATTACH;FMTTYPE=image/jpeg:https://www.straussenclique.de/wp-content/uploads/2024/06/IMG_5003-scaled.jpg
END:VEVENT
BEGIN:VEVENT
DTSTART;TZID=Europe/Berlin:20240707T100000
DTEND;TZID=Europe/Berlin:20240707T170000
DTSTAMP:20260420T151751
CREATED:20240703T153626Z
LAST-MODIFIED:20240703T170649Z
UID:108562-1720346400-1720371600@www.straussenclique.de
SUMMARY:Wanderung bei Weyher in der Pfalz (Südliche Weinstraße)
DESCRIPTION:Am kommenden Sonntag möchte ich eine Wanderung bei Weyher in der Pfalz anbieten. Die Rundtour führt uns zunächst auf den Ludwigsturm\, einem der höchstgelegenen Türme des Pfälzerwaldes. Von dort haben wir einen schönen Ausblick auf den Pfälzerwald und die Rheinebene. Anschließend wandern wir auf dem Blättersberg weiter bis zur Rietburg\, die zwar nur noch eine Ruine ist\, aber dafür die einzige Pfälzer Burg\, die man mit einem Sessellift\, der Rietburgbahn\, erreichen kann. Dann geht es überwiegend bergab zum idyllischen Hilschweiher\, der von kleinen Wasserfällen gespeist wird\, und von dort wieder aufwärts zum Friedensdenkmal auf dem Werderberg. Über Wald und Weinberge\, vorbei am Schloss Villa Ludwigshöhe gelangen wir zurück zum Ausgangspunkt. \nDie geplante Strecke ist 14 km lang bei ca. 550 hm. Unterwegs finden sich einige Einkehrmöglichkeiten\, die wir spontan nutzen können. Bei Bedarf dennoch besser Rucksackverpflegung mitnehmen. \nBei schlechter Wetterprognose wird die geplante Wanderung nicht stattfinden\, also vorher bitte unbedingt nochmal in eurem E-Mail-Account nachschauen! \nWir treffen uns um 10:00 Uhr am Ende der Borngasse (Borngasse 13-15) in Weyher. \nAnmeldung bei Nicole unter mahima32@gmx.de\, am besten mit Angabe eurer Handynummer. Wer eine MfG sucht oder anzubieten hat\, kann mir das gerne mitteilen. \nTeilnehmerzahl: ca. 5 bis 15 Personen. 
URL:https://www.straussenclique.de/veranstaltung/wanderung-bei-weyher-in-der-pfalz-suedliche-weinstrasse/
CATEGORIES:Wanderungen
ATTACH;FMTTYPE=image/jpeg:https://www.straussenclique.de/wp-content/uploads/2024/07/04.jpg
END:VEVENT
BEGIN:VEVENT
DTSTART;TZID=Europe/Berlin:20240711T183000
DTEND;TZID=Europe/Berlin:20240711T210000
DTSTAMP:20260420T151751
CREATED:20240702T173528Z
LAST-MODIFIED:20240702T173528Z
UID:108550-1720722600-1720731600@www.straussenclique.de
SUMMARY:Afterwork-Wanderung mit Picknick an der Schneeburg (südlich von Freiburg)
DESCRIPTION:Wir genießen den Feierabend in der Natur auf dem Weg vom Rathaus in Ebringen durch Weinberge und Wald bei einer sehr kurzen und gemütlichen Wanderung (ca. 3km) hinauf zur Ruine der Schneeburg. Dort genießen wir die herrliche Aussicht ins Rheintal und auf die Vogesen beim Picknick. \nBitte bringt etwas zu essen und trinken für das Picknick mit und gerne auch eine Picknickdecke. \nTreffpunkt: Rathaus in 79285 Ebringen\, Schlossplatz 1 \nUhrzeit: Start um 18:30 Uhr \nGehzeit zur Schneeburg: gemütliche ca. 45 min einfach \nSpazierstrecke: ca. 6km hin und zurück ca. 200 Höhenmeter \nBitte melde Dich direkt bei Udo: u.schoofs@freenet.de
URL:https://www.straussenclique.de/veranstaltung/afterwork-wanderung-mit-picknick-an-der-schneeburg-suedlich-von-freiburg/
CATEGORIES:Wanderungen
ATTACH;FMTTYPE=image/jpeg:https://www.straussenclique.de/wp-content/uploads/2024/07/IMG_8144-scaled.jpg
END:VEVENT
BEGIN:VEVENT
DTSTART;TZID=Europe/Berlin:20240713T090000
DTEND;TZID=Europe/Berlin:20240713T170000
DTSTAMP:20260420T151751
CREATED:20240618T174049Z
LAST-MODIFIED:20240618T174049Z
UID:107707-1720861200-1720890000@www.straussenclique.de
SUMMARY:Vom Kaltenbronn durchs Eyachtal nach Dobel (Nordschwarzwald)
DESCRIPTION:Die Tour startet um 9.00 Uhr am Bahnhof in Gernsbach. Anreise mit der S-Bahn z. B. aus Richtung Karlsruhe möglich. \nVon Gernsbach fahren wir zunächst mit dem Bus zum Kaltenbronn. Von dort wandern wir durch das Naturschutzgebiet „Wildseemoor“ und entlang der idyllischen Eyach bis nach Dobel. Von Dobel besteht Rückfahrtmöglichkeit mit dem Bus bis Gernsbach oder mit Bus und S-Bahn nach Karlsruhe. \nDie Wanderung ist etwa 16 km lang. Unterwegs nehmen wir uns Zeit dafür die Natur zu entdecken. \nAußerdem gibt es die eine oder andere Achtsamkeitsübung und ein kleines LandArtProjekt. \nWir nutzen vorwiegend kleinere Pfade\, die nicht alle für Kinderwagen geeignet sind. Kleinkinder in der Rückentrage sind herzlich willkommen. \nKontakt: \n\n\n\nSusanne Neipp-Bilgenroth \nMail: s.neipp-bilgenroth@online.de \nTel.: 01525/3611997 \nwww.natur-auszeit.de\nNavina Klingmann \nMail: navina-klingmann@gmx.de \nTel.: 07244/5583961\n\n\n\nMit der verbindlichen Anmeldung erhaltet ihr die erforderlichen Detail-Informationen. \nKosten: Die Fahrtkosten trägt jeder selbst. \nWir freuen uns über eine kleine Spende von dir. \nBei sehr schlechtem Wetter sagen wir die Wanderung ab.
URL:https://www.straussenclique.de/veranstaltung/vom-kaltenbronn-durchs-eyachtal-nach-dobel-nordschwarzwald/
CATEGORIES:Wanderungen
ATTACH;FMTTYPE=image/jpeg:https://www.straussenclique.de/wp-content/uploads/2024/06/IMG_1887-scaled.jpg
END:VEVENT
BEGIN:VEVENT
DTSTART;TZID=Europe/Berlin:20240713T100000
DTEND;TZID=Europe/Berlin:20240713T170000
DTSTAMP:20260420T151751
CREATED:20240702T173952Z
LAST-MODIFIED:20240702T173952Z
UID:108553-1720864800-1720890000@www.straussenclique.de
SUMMARY:Balzer Hergottsrunde (Mittlerer Schwarzwald)
DESCRIPTION:Liebe Wanderfreunde\, wir möchten eine anspruchsvolle\, abwechslungsreiche Wanderung mit euch unternehmen. \nBalzer Herrgottsrunde\, ca. 17-18km\, 700 Hm\, reine Gehzeit ca 5h + Pausen\, größtenteils im schattigen Wald. \nDen Abstecher zur wunderschönen Hexenlochmühle mit Einkehrmöglichkeit (falls Platz vorhanden) werden wir mitnehmen. \nTrotzdem Vesper und genug Getränke einpacken! \nNur für geübte Wanderer!! \nMaximal 10 Personen \nTreffpunkt:  Samstag\, den 13.07.24. Wanderparkplatz Teichbachschlucht\, Ortseingang Gütenbach\, Hauptstraße 42\, 10.00 Uhr \nEinkehrmöglichkeit hinterher im Märchenkaffee\, Simonswald\, bitte bei der Anmeldung angeben\, ob ihr dabei seid. \nBis demnächst\, Heike und Reinhilde  \nAnmeldung bitte mit Telefonnummer: reinhilde.hzm@web.de \nEvtl. gibt es 3-4 Mitfahrgelegenheiten ab Freiburg nach Rücksprache.
URL:https://www.straussenclique.de/veranstaltung/balzer-hergottsrunde-mittlerer-schwarzwald/
CATEGORIES:Wanderungen
ATTACH;FMTTYPE=image/jpeg:https://www.straussenclique.de/wp-content/uploads/2024/07/10.jpg
END:VEVENT
BEGIN:VEVENT
DTSTART;TZID=Europe/Berlin:20240713T104500
DTEND;TZID=Europe/Berlin:20240713T170000
DTSTAMP:20260420T151751
CREATED:20240602T175741Z
LAST-MODIFIED:20240602T175741Z
UID:107624-1720867500-1720890000@www.straussenclique.de
SUMMARY:Wanderung Bad Herrenalb (Nordschwarzwald)
DESCRIPTION:Durchs große Loch zur Teufelsmühle & musikalische Überraschung  \nHallo zusammen\, \nam Samstag 13.07.2024 möchte ich euch zu einer etwas sportiveren Rundwanderung bei Bad Herrenalb einladen. \nTourdaten: \nWanderzeit: 4\,5 h plus Pausen\, Streckenlänge: 15 km\, Höhenmeter: 530 hm \nLink zur Tour: \nhttps://www.komoot.com/de-de/tour/1585719557?share_token=aa7N5sMeVKhGXeAkdM6w0NPpOCeM9CWgwpEl2uX6iIEjzE71hs&ref=wtd \nTreffpunkte: \n10:00 Karlsruhe Europahalle zur Bildung von Fahrgemeinschaften nach Bad Herrenalb \n10:45 Parkplatz beim Schwimmbad\, 76332 Bad Herrenalb\, Schwimmbadstr. 31 \nUnsere Tour beginnt am Parkplatz beim Schwimmbad in Bad Herrenalb. Über die Rißwasenhütte geht es hinauf zum Großen Loch und den Teufelskammern. Der steile Anstieg über das Große Loch setzt etwas Trittsicherheit voraus. Nach etwa 6 km Anstieg erreichen wir den Teufelsmühlenturm der mit 908 MüN einer der höchsten Erhebungen im Nordschwarzwald ist. Weiter geht es über schmale Pfade durch eine wunderschöne Hochebene. Der Abstieg erfolgt über die Hahnenfalzhütte zur Gaststätte Spechtschmiede: https://www.spechtschmiede.de \nIn der Spechtschmiede ist eine längere Einkehr mit einer musikalischen Einlage vom Duo Wolfgang (Gitarre & Vocals) Thomas (Cajon) geplant. \nWer nicht einkehren will kann dem Quellenpfad folgend die letzten 3 km abwärts zum Ausgangspunkt laufen. \nIch freue mich auf eine schöne Tour. \nViele Grüße \nAchim \nAnmeldung bitte bei achimfindling@web.de
URL:https://www.straussenclique.de/veranstaltung/wanderung-bad-herrenalb-nordschwarzwald/
CATEGORIES:Wanderungen
ATTACH;FMTTYPE=image/jpeg:https://www.straussenclique.de/wp-content/uploads/2024/06/IMG_0597-scaled.jpg
END:VEVENT
BEGIN:VEVENT
DTSTART;TZID=Europe/Berlin:20240720T060000
DTEND;TZID=Europe/Berlin:20240720T200000
DTSTAMP:20260420T151751
CREATED:20240625T192220Z
LAST-MODIFIED:20240625T192220Z
UID:108431-1721455200-1721505600@www.straussenclique.de
SUMMARY:Bergpanorama pur – Tagestour des SWV Waldkirch in die Zentralschweiz!
DESCRIPTION:Der Walenpfad zählt zu den schönsten Bergwanderwegen der Schweiz. Begleitet uns auf diesem einmalig schönen Höhenwanderweg vom Bannalpsee ins Brunni-Gebiet. \nLink: https://schwarzwaldverein-waldkirch.de/ov-veranstaltungen/detailansicht/?id=3041 \nWeitere Informationen und Anmeldung unter obigen Link oder bei Uwe unter info@schwilski-wanderreisen.de
URL:https://www.straussenclique.de/veranstaltung/bergpanorama-pur-tagestour-des-swv-waldkirch-in-die-zentralschweiz/
CATEGORIES:Wanderungen
ATTACH;FMTTYPE=image/jpeg:https://www.straussenclique.de/wp-content/uploads/2024/06/walenpfad.jpg
END:VEVENT
BEGIN:VEVENT
DTSTART;TZID=Europe/Berlin:20240720T194500
DTEND;TZID=Europe/Berlin:20240720T220000
DTSTAMP:20260420T151751
CREATED:20240528T162002Z
LAST-MODIFIED:20240528T162002Z
UID:107204-1721504700-1721512800@www.straussenclique.de
SUMMARY:Sonnenuntergangswanderung und Vollmondnacht Dobel (Nordschwarzwald)
DESCRIPTION:Wir genießen zuerst den Sonnenuntergang und machen uns dann auf zum Vollmond. Es erwartet Euch eine informative und aussichtsreiche Wanderung durch die Nacht. Hauptdarsteller ist unser Mond. Der Mond erfährt aktuell wieder sehr viel Aufmerksamkeit. Auf unserer kleinen Wanderung betrachten wir die wissenschaftlichen Erkenntnisse\, die literarische und die mystische Seite des Mondes. Auch bei bewölktem Himmel ein nachhaltiges Erlebnis. \nTeilnahme auf eigenes Risiko. Anmeldung notwendig unter Monika@amanntour.de \nKosten pro Person 12 Euro. Kinder bis 12 Jahre frei. \nTreffpunkt um 20:45 Uhr am Sonnentor beim Kurhaus in Dobel.
URL:https://www.straussenclique.de/veranstaltung/sonnenuntergangswanderung-und-vollmondnacht-dobel-nordschwarzwald-2/
CATEGORIES:Wanderungen
ATTACH;FMTTYPE=image/jpeg:https://www.straussenclique.de/wp-content/uploads/2024/05/dobel.jpg
END:VEVENT
BEGIN:VEVENT
DTSTART;TZID=Europe/Berlin:20240721T093000
DTEND;TZID=Europe/Berlin:20240721T170000
DTSTAMP:20260420T151751
CREATED:20240701T200906Z
LAST-MODIFIED:20240701T200910Z
UID:108545-1721554200-1721581200@www.straussenclique.de
SUMMARY:Rundwanderung: Himmelreich - St. Peter - Maria Lindenberg - Himmelreich (Hochschwarzwald)
DESCRIPTION:20 km und 650 Höhenmeter  \nTreffpunkt: 9:30 Uhr Bhf Himmelreich  \nWir wandern am Wagensteigbach entlang über Wiesnecksattel und Kappeneck. Dann geht es die Wolfssteige hoch Richtung St. Peter. Kurz vor St Peter laufen wir über die Schweighofmühle nach Maria Lindenberg. Der Abstieg geht über Klingeleberg und Laubishof zurück zum Bahnhof Himmelreich.  \nWie immer Rucksackverpflegung\, Einkehr möglich.  \nIch wandere am Mittwoch\, 17.07. die Tour für den darauffolgenden Sonntag vor und würde mich über Mitwanderer freuen. \nMaximal 10 Personen. \nAnmeldung bei Sigrun per E-Mail spätestens 2 Tage zuvor: sg.dietrich@gmx.de mit vollständigen Vor- und Nachnamen und Angabe der Handynummer.
URL:https://www.straussenclique.de/veranstaltung/rundwanderung-himmelreich-st-peter-maria-lindenberg-himmelreich-hochschwarzwald/
CATEGORIES:Wanderungen
ATTACH;FMTTYPE=image/jpeg:https://www.straussenclique.de/wp-content/uploads/2024/04/12.jpg
END:VEVENT
BEGIN:VEVENT
DTSTART;TZID=Europe/Berlin:20240727T094000
DTEND;TZID=Europe/Berlin:20240727T170000
DTSTAMP:20260420T151751
CREATED:20240426T135604Z
LAST-MODIFIED:20240426T135604Z
UID:106237-1722073200-1722099600@www.straussenclique.de
SUMMARY:78132 Hornberg – Hoch über der Gutach (Mittlerer Schwarzwald)
DESCRIPTION:Auto-Anfahrt: Treffpunkt\, Parkplatz Bf. in Hornberg 09:40h \nÖPNV: Ab KA um 08:09h\, an Hornberg\, mit dem RE 2\, Ankunft um 09:29h. Deutschland-Ticket\, BW-Ticket. \nStrecke: \nUnsere heutige Rund-Wanderung führt uns nach Hornberg\, ins Gutachtal. \nHornberg dürfte bekannt sein\, durch das sog. „Hornberger-Schießen“. Allerdings schießen wir heute nicht 😀. Wir erwandern einen beeindruckenden Mix aus Felsen- und Panoramaweg\, mit unterschiedlichen Wegen- und Strecken-Varianten. \nMittlerer Anspruch\, Höhen + Tiefen\, 400:400HM ca. 16km \nKaffee-Einkehr bei einer Möglichkeit. Wander-Abschluss am Touren-Ende\, in Hornberg. \nZwecks ggf. Reservierung\, Bahnfahrt etc. bitte vorab Bescheid geben.  \nAnmeldung bei Günther unter:  ghs-wandern@web.de
URL:https://www.straussenclique.de/veranstaltung/78132-hornberg-hoch-ueber-der-gutach-mittlerer-schwarzwald/
CATEGORIES:Wanderungen
ATTACH;FMTTYPE=image/jpeg:https://www.straussenclique.de/wp-content/uploads/2024/04/hornberg.jpg
END:VEVENT
BEGIN:VEVENT
DTSTART;TZID=Europe/Berlin:20240728T093000
DTEND;TZID=Europe/Berlin:20240728T170000
DTSTAMP:20260420T151751
CREATED:20240701T202531Z
LAST-MODIFIED:20240701T202531Z
UID:108547-1722159000-1722186000@www.straussenclique.de
SUMMARY:Streckenwanderung: Kirchzarten - Schauinsland - Freiburg\, Günterstal (Hochschwarzwald)
DESCRIPTION:Wiederholung vom 30. Juni  \n17 km und 1100 Höhenmeter  \nTreffpunkt: 9:30 Uhr Bahnhof Kirchzarten  \nWir wandern vom Bhf Kirchzarten durch die Fußgängerzone\, am Schwimmbad\, Jungbauernhof und Rappeneck zum Schauinsland. Mit der Bahn fahren wir zur Talstation. Von dort geht es noch mal 120 Höhenmeter die Straße hoch bis zur Luisenhöhe. Nun führen uns bequeme Waldwege bis nach Günterstal. \nWie immer Rucksackverpflegung\, Einkehr möglich.  \nMaximal 10 Personen. \nAnmeldung bei Sigrun per E-Mail spätestens 2 Tage zuvor: sg.dietrich@gmx.de mit vollständigen Vor- und Nachnamen und Angabe der Handynummer.  \n  \n 
URL:https://www.straussenclique.de/veranstaltung/streckenwanderung-kirchzarten-schauinsland-freiburg-guenterstal-hochschwarzwald/
CATEGORIES:Wanderungen
ATTACH;FMTTYPE=image/jpeg:https://www.straussenclique.de/wp-content/uploads/2024/06/IMG_5188-scaled.jpg
END:VEVENT
BEGIN:VEVENT
DTSTART;TZID=Europe/Berlin:20240731T100000
DTEND;TZID=Europe/Berlin:20240731T210000
DTSTAMP:20260420T151751
CREATED:20240731T152504Z
LAST-MODIFIED:20240731T152530Z
UID:109586-1722420000-1722459600@www.straussenclique.de
SUMMARY:Gaishöllwasserfälle – Felsenpfad - Burg Windeck plus Abschlussfete (Ortenau)
DESCRIPTION:Hallo zusammen\, \nam Samstag 31.08.2024 möchte ich euch zu einer schönen Tour in der Ortenau mit Abschlussfete am Schnapsbrunnen / Hof von Jürgen Baßler mit toller Aussicht ins Rheintal einladen. \nHier einige Impressionen unserer location: \nhttps://www.google.de/maps/place/Schnapsbrunnen+bei+der+Fatima-Grotte/@48.629312\,8.1365989\,19z/data=!4m6!3m5!1s0x4797275988db2127:0x53460a39c4dac501!8m2!3d48.629312!4d8.1370332!16s%2Fg%2F11fjbl5ptl!5m1!1e4?entry=ttu \nTourdaten: \nWanderzeit: 4:15 h plus Pausen \nSteckenlänge: 13\,3 km \nHöhenmeter: 500 hm \nLink zur Tour: \nhttps://www.komoot.com/de-de/tour/1748745078?share_token=at6miKXo5STrMRQz3GGf41spYUltlRyf9YNYI2ku752YOJHX78&ref=wtd \nTreffpunkte: \n10:00 Karlsruhe Europahalle zur Bildung von Fahrgemeinschaften nach Sasbachwalden \n11:00 Parkplatz an den Gaishöllwasserfällen in Sasbachwalden\, 77887 Sasbachwalden\, Gaishöllpark 4  \nTourbeschreibung: \nUnsere Tour beginnt am Parkplatz der Gaishöllwasserfälle und führt uns hinauf zum Schapsbrunnen/Hof von Jürgen Baßler. \nHier können die Getränke und das Essen für das Picknick bei Jürgen kühl gestellt werden. \nWeiter geht es zur imposanten Burgruine Windeck. Ein wunderschöner Naturpfad führt uns den Laufbach hinauf\, der dann in den Felsenpfad (Singletrail) übergeht.Es folgt der Abstieg durch die wildromantische Gaishöll Schlucht und der kurze Anstieg zum Schnapsbrunnen\, wo die Abschlussfete stattfindet. Für Teilnehmende\, die nicht bei der Abschlussfete mitmachen möchten endet die Tour am Parkplatz Gaishöllwasserfälle. \nInfos zur Abschlussfete: \nWas wird geboten: \nSchnapsbrunnen\, herrlicher Rastplatz mit Aussicht ins Rheintal auf 410 Meter Höhe\, Fatima Grotte\, WC im Hof. Picknick mit Live Musikeinlage einiger Mitwandernden\, Musik aus der Konserve\, evtl. Lagerfeuer \nWas sollte man mitbringen: Beitrag zum Picknick\, ggf. (Wein)Glas \nGetränke können mitgebracht werden oder zum günstigen Preis vor Ort gekauft werden: \nGetränkeangebot: Bier\, Weizen (auch alkoholfrei)\, Zitronenlimonade\, Weisswein\, Rosewein\, Rotwein\, Schorle\, Cola light\, Mineralwasser classic\, Brunnenwasser\, Schnaps und Likör vom Schnapsbrunnen \nBei ungünstigem Wetter wird das gesamte Event abgesagt. \nIch freue mich auf eine spannende Tour mit schöner Abschlussfete. \nViele Grüße \nAchim \nAnmeldung bitte bei achimfindling@web.de \n 
URL:https://www.straussenclique.de/veranstaltung/gaishoellwasserfaelle-felsenpfad-burg-windeck-plus-abschlussfete-ortenau/
CATEGORIES:Wanderungen
ATTACH;FMTTYPE=image/jpeg:https://www.straussenclique.de/wp-content/uploads/2024/07/IMG_2438-scaled.jpg
END:VEVENT
BEGIN:VEVENT
DTSTART;TZID=Europe/Berlin:20240731T190000
DTEND;TZID=Europe/Berlin:20240731T213000
DTSTAMP:20260420T151751
CREATED:20240729T172507Z
LAST-MODIFIED:20240729T172537Z
UID:109485-1722452400-1722461400@www.straussenclique.de
SUMMARY:„Afterwork-Wanderung“ am Tuniberg
DESCRIPTION:Unsere nächste Afterwork-Wanderung führt uns an den Tuniberg oberhalb von Munzingen. \nReine Wanderzeit: max. 1-1\,5 Stunden. \nBei schönem Wetter wollen wir die Abendstimmung bzw. den Sonnenuntergang an der Erentrudiskapelle genießen. Für diesen Zweck bitte etwas zum Trinken und zum Knabbern mitnehmen. \nWir treffen uns um 19:00 Uhr direkt bei der Erentrudiskapelle oberhalb von Munzingen.
URL:https://www.straussenclique.de/veranstaltung/afterwork-wanderung-am-tuniberg-4/
CATEGORIES:Wanderungen
ATTACH;FMTTYPE=image/jpeg:https://www.straussenclique.de/wp-content/uploads/2024/07/IMG_5533-scaled.jpg
END:VEVENT
END:VCALENDAR